BEGIN:VCALENDAR
VERSION:2.0
PRODID:-//ChamberMaster//Event Calendar 2.0//EN
METHOD:PUBLISH
X-PUBLISHED-TTL:P3D
REFRESH-INTERVAL:P3D
CALSCALE:GREGORIAN
BEGIN:VEVENT
DTSTART:20260516T150000Z
DTEND:20260516T220000Z
X-MICROSOFT-CDO-ALLDAYEVENT:FALSE
SUMMARY:2026 Classic Car Show: T-SHIRT ORDER (ONLY)
DESCRIPTION:GET YOUR 2025 CLASSIC CAR SHOW T-SHIRT\n\n\n\nSmall - XL = $23.50\n\n2XL - 3XL = $26.50\n\n\n\n*Must be paid for at the time of purchase\, online only.  Includes CC processing fees.
X-ALT-DESC;FMTTYPE=text/html:<p --font-size:="" --line-height:="" class="cvGsUA direction-ltr align-center para-style-body" letter-spacing:="" line-height:="" style="color: rgb(0\, 0\, 0)\; font-family: " text-transform:="" yacgese7ejq=""><strong style="font-size: 16px\;">GET YOUR 2025 CLASSIC CAR SHOW T-SHIRT<br />\n<br />\nSmall - XL = $23.50<br />\n2XL - 3XL = $26.50</strong><br />\n<br />\n*Must be paid for at the time of purchase\, online only.&nbsp\; Includes CC processing fees.</p>\n
LOCATION:HOT! HOT! HOT!
UID:e.898.8363
SEQUENCE:3
DTSTAMP:20260421T231248Z
URL:https://business.hartfordareachamber.org/events/details/2026-classic-car-show-t-shirt-order-only-8363
END:VEVENT

END:VCALENDAR
