BEGIN:VCALENDAR
VERSION:2.0
PRODID:-//ChamberMaster//Event Calendar 2.0//EN
METHOD:PUBLISH
X-PUBLISHED-TTL:P3D
REFRESH-INTERVAL:P3D
CALSCALE:GREGORIAN
BEGIN:VEVENT
DTSTART:20150219T010000Z
DTEND:20150219T020000Z
X-MICROSOFT-CDO-ALLDAYEVENT:FALSE
SUMMARY:FUMC Ash Wednesday Service
DESCRIPTION:First United Methodist Church\n\nAsh Wednesday Service\n\nFebruary 18\n\n7 pm
X-ALT-DESC;FMTTYPE=text/html:<strong>First United Methodist Church</strong><br />\n<strong>Ash Wednesday Service</strong><br />\nFebruary 18<br />\n7 pm
LOCATION:
UID:e.898.3366
SEQUENCE:3
DTSTAMP:20260420T165054Z
URL:https://business.hartfordareachamber.org/events/details/fumc-ash-wednesday-service-02-18-2015-3366
END:VEVENT

END:VCALENDAR
