BEGIN:VCALENDAR
VERSION:2.0
PRODID:-//ChamberMaster//Event Calendar 2.0//EN
METHOD:PUBLISH
X-PUBLISHED-TTL:P3D
REFRESH-INTERVAL:P3D
CALSCALE:GREGORIAN
BEGIN:VEVENT
DTSTART:20160909T163000Z
DTEND:20160909T180000Z
X-MICROSOFT-CDO-ALLDAYEVENT:FALSE
SUMMARY:FUN! Customer Service
DESCRIPTION:FUN! Customer Service - Lunch & Learn\n\n\n\nWe know that all of the good marketing in the world won't make a difference if your customer does not have an exceptional experience in your destination\, at your business\, or in your region. Topics include\n\n\n	Bringing Fun to Life in Wisconsin\n	Fun\, Delivered: The Basics of Customer Service\n	The Fun Starts With You: Show Pride in Your Region\n	Calm Down\, Have Fun: Defusing Angry Customers\n	Fun For All: Proper Service For Diverse Customers\n	Fun Digitized: Customer Service In The Digital Age\n\nTraining presented by David Spiegelberg \n\nWisconsin Department of Tourism.
X-ALT-DESC;FMTTYPE=text/html:<br />\n<span style="font-size:22px\;"><strong>FUN! Customer Service - Lunch &amp\; Learn</strong></span><br />\n<br />\n<span style="color: rgb(34\, 34\, 34)\; font-family: Helvetica\, sans-serif\; font-size: 16px\; line-height: 22.4px\;">We know that all of the good marketing in the world won&rsquo\;t make a difference if your customer does not have an exceptional experience in your destination\, at your business\, or in your region. Topics include</span>\n\n<ul style="margin: 1em 0px\; padding-right: 0px\; color: rgb(34\, 34\, 34)\; font-family: Helvetica\, sans-serif\; font-size: 16px\; line-height: 22.4px\;">\n	<li>Bringing Fun to Life in Wisconsin</li>\n	<li>Fun\, Delivered: The Basics of Customer Service</li>\n	<li>The Fun Starts With You: Show Pride in Your Region</li>\n	<li>Calm Down\, Have Fun: Defusing Angry Customers</li>\n	<li>Fun For All: Proper Service For Diverse Customers</li>\n	<li>Fun Digitized: Customer Service In The Digital Age</li>\n</ul>\n<span style="font-size:16px\;"><span style="line-height: 20.8px\;">Training presented by David Spiegelberg&nbsp\;<br />\nWisconsin Department of Tourism.</span></span>
LOCATION:Hartford Golf Club 7072 Lee Rd. Hartford\, WI
UID:e.898.3638
SEQUENCE:3
DTSTAMP:20260421T135255Z
URL:https://business.hartfordareachamber.org/events/details/fun-customer-service-09-09-2016-3638
END:VEVENT

END:VCALENDAR
