BEGIN:VCALENDAR
VERSION:2.0
PRODID:-//ChamberMaster//Event Calendar 2.0//EN
METHOD:PUBLISH
X-PUBLISHED-TTL:P3D
REFRESH-INTERVAL:P3D
CALSCALE:GREGORIAN
BEGIN:VEVENT
DTSTART;VALUE=DATE:20120704
DTEND;VALUE=DATE:20120705
TRANSP:TRANSPARENT
X-MICROSOFT-CDO-ALLDAYEVENT:TRUE
SUMMARY:Fundraiser for Hartford's Support The Troops
DESCRIPTION:FUNDRAISER EXTENDED!\n\n	\n\n	Buy your 8"x12" American Flag at Faith & Giggles in Downtown Hartford for $2.00 each.  Also for sale are Support The Troops yard signs for $7.00 each.\n\n	\n\n	100% of sales go directly to Hartford's Support The Troops which sends care packages to soldiers serving our country!  For more information about this awesome organization please check out www.supportthetroopswi.com
X-ALT-DESC;FMTTYPE=text/html:<p>\n	<span style="color:#000080\;"><span style="font-family: tahoma\;"><span style="font-size: 14px\;"><strong>FUNDRAISER EXTENDED!</strong></span></span></span><br />\n	<br />\n	Buy your 8&quot\;x12&quot\; American Flag at Faith &amp\; Giggles in Downtown Hartford for $2.00 each.&nbsp\; Also for sale are Support The Troops yard signs for $7.00 each.<br />\n	<br />\n	100% of sales go directly to Hartford&#39\;s Support The Troops which sends care packages to soldiers serving our country!&nbsp\; For more information about this awesome organization please check out <a href="http://www.facebook.com/l.php?u=http%3A%2F%2Fwww.supportthetroopswi.com%2F&amp\;h=sAQGRbcdJ" rel="nofollow nofollow" target="_blank">www.supportthetroopswi.com</a></p>\n
LOCATION:Faith & Giggles 42 N. Main St. Hartford\, WI 53027 Downtown Hartford
UID:e.898.1344
SEQUENCE:3
DTSTAMP:20260420T050437Z
URL:https://business.hartfordareachamber.org/events/details/fundraiser-for-hartford-s-support-the-troops-07-04-2012-1344
END:VEVENT

END:VCALENDAR
