BEGIN:VCALENDAR
VERSION:2.0
PRODID:-//ChamberMaster//Event Calendar 2.0//EN
METHOD:PUBLISH
X-PUBLISHED-TTL:P3D
REFRESH-INTERVAL:P3D
CALSCALE:GREGORIAN
BEGIN:VEVENT
DTSTART:20120511T163000Z
DTEND:20120511T183000Z
X-MICROSOFT-CDO-ALLDAYEVENT:FALSE
SUMMARY:Future Hartford 2012 Graduation
DESCRIPTION:The Hartford Area Chamber of Commerce\n\ncordially invites you to the\n\n\n\nFuture Hartford Leadership\n\nGraduation & Luncheon\n\n\n\nFriday\, May 11\, 2012\n\nGraduation Program & Luncheon\n\n11:30 am to 1 pm\n\n\n\nCelebrating the Class of 2012\n\n\n\nClick Here for Invitation & Registration Form\n\n\n\nClick Here for details on the\n\nFuture Hartford Leadership Program\n\n\n\n\n\nProceeds benefit the\n\nFuture Hartford Alumni Scholarship Fund\n\n\n\nQuestions?\n\nContact Barb Laabs\n\n(262) 673-7002
X-ALT-DESC;FMTTYPE=text/html:<span style="font-family: tahoma">The Hartford Area Chamber of Commerce<br />\ncordially invites you to the<br />\n<br />\n<strong><span style="font-size: 16px">Future Hartford Leadership<br />\nGraduation &amp\; Luncheon</span><br />\n<br />\n<span style="font-size: 14px">Friday\, May 11\, 2012</span></strong><br />\nGraduation Program &amp\; Luncheon<br />\n11:30 am to 1 pm<br />\n<br />\n<strong><span style="font-size: 14px">Celebrating the Class of 2012</span></strong><br />\n<br />\n<a href="http://cloud.chambermaster.com/userfiles/UserFiles/chambers/898/File/invite-2012FHGradLuncheonFINAL.pdf">Click Here </a>for Invitation &amp\; Registration Form<br />\n<br />\nClick Here for details on the<br />\nFuture Hartford Leadership Program</span><br />\n<br />\n<br />\nProceeds benefit the<br />\nFuture Hartford Alumni Scholarship Fund<br />\n<br />\n<strong>Questions?</strong><br />\nContact Barb Laabs<br />\n(262) 673-7002
LOCATION:The Schauer Arts Center 147 N. Rural Street Hartford
UID:e.898.1152
SEQUENCE:3
DTSTAMP:20260423T002547Z
URL:https://business.hartfordareachamber.org/events/details/future-hartford-2012-graduation-05-11-2012-1152
END:VEVENT

END:VCALENDAR
