BEGIN:VCALENDAR
VERSION:2.0
PRODID:-//ChamberMaster//Event Calendar 2.0//EN
METHOD:PUBLISH
X-PUBLISHED-TTL:P3D
REFRESH-INTERVAL:P3D
CALSCALE:GREGORIAN
BEGIN:VEVENT
DTSTART:20130622T140000Z
DTEND:20130622T200000Z
X-MICROSOFT-CDO-ALLDAYEVENT:FALSE
SUMMARY:Garden Walk - Hartford Lioness
DESCRIPTION:Hartford Lioness \n\nGarden Walk\n\n\n\nThe Hartford Lioness present their Summer Garden Walk of six gardens within the City of Hartford offering a variety of landscapes\, designs\, and flowers.\n\n\n\nThe gardens include traditional plants\, grasses\, perennials and annuals in unique settings that include garden art and waterfalls.  This year will include a Victorian yard and Westphal Mansion English garden with a gift shop.\n\n\n\nTickets are available at:\n\nB & S Liquor\, Hartford Cleaners\, Black's Greenhouse\, Westphal Mansion or from any Lioness. \n\n\n\nThe Lioness are committed to donate proceeds to the Wisconsin Lions' Camp and other area projects/organizations supported by Hartford Lioness.  The Lions' Camp has provided children who are blind/visually impaired\, deaf/hard of hearing\, cognitively disabled or diabetic.
X-ALT-DESC;FMTTYPE=text/html:<span style="font-size: 14px\;"><strong><span style="font-size: 16px\;">Hartford Lioness </span><br />\n<span style="font-size: 18px\;">Garden Walk</span></strong></span><br />\n<br />\nThe Hartford Lioness present their Summer Garden Walk of six gardens within the City of Hartford offering a variety of landscapes\, designs\, and flowers.<br />\n<br />\nThe gardens include traditional plants\, grasses\, perennials and annuals in unique settings that include garden art and waterfalls. &nbsp\;This year will include a Victorian yard and Westphal Mansion English garden with a gift shop.<br />\n<br />\nTickets are available at:<br />\nB &amp\; S Liquor\, Hartford Cleaners\, Black&#39\;s Greenhouse\, Westphal Mansion or from any Lioness.&nbsp\;<br />\n<br />\nThe Lioness are committed to donate proceeds to the Wisconsin Lions&#39\; Camp and other area projects/organizations supported by Hartford Lioness. &nbsp\;The Lions&#39\; Camp has provided children who are blind/visually impaired\, deaf/hard of hearing\, cognitively disabled or diabetic.&nbsp\;
LOCATION:City of Hartford Garden #1 1303 Honeysuckle Rd. Hartford
UID:e.898.1822
SEQUENCE:3
DTSTAMP:20260419T121318Z
URL:https://business.hartfordareachamber.org/events/details/garden-walk-hartford-lioness-06-22-2013-1822
END:VEVENT

END:VCALENDAR
