BEGIN:VCALENDAR
VERSION:2.0
PRODID:-//ChamberMaster//Event Calendar 2.0//EN
METHOD:PUBLISH
X-PUBLISHED-TTL:P3D
REFRESH-INTERVAL:P3D
CALSCALE:GREGORIAN
BEGIN:VEVENT
DTSTART:20120616T180000Z
DTEND:20120616T210000Z
X-MICROSOFT-CDO-ALLDAYEVENT:FALSE
SUMMARY:Geocaching
DESCRIPTION:Geocaching\n\n\n\nLearn about geocaching with the Wisconsin Geocaching Association (WGA.)\n\n\n\n\n\nKettle Moraine State Forest\n\nPike Lake Unit\n\nMeet at the Pike Lake office.\n\n\n\nFor more information\, visit www.wi-geocaching.com
X-ALT-DESC;FMTTYPE=text/html:<span style="font-size: 16px"><strong>Geocaching</strong></span><br />\n<br />\nLearn about geocaching with the Wisconsin Geocaching Association (WGA.)<br />\n<br />\n<br />\n<span style="font-size: 16px"><strong>Kettle Moraine State Forest<br />\nPike Lake Unit</strong></span><br />\nMeet at the Pike Lake office.<br />\n<br />\nFor more information\, visit <a href="http://www.wi-geocaching.com">www.wi-geocaching.com</a>
LOCATION:
UID:e.898.1215
SEQUENCE:3
DTSTAMP:20260422T225814Z
URL:https://business.hartfordareachamber.org/events/details/geocaching-06-16-2012-1215
END:VEVENT

END:VCALENDAR
