BEGIN:VCALENDAR
VERSION:2.0
PRODID:-//ChamberMaster//Event Calendar 2.0//EN
METHOD:PUBLISH
X-PUBLISHED-TTL:P3D
REFRESH-INTERVAL:P3D
CALSCALE:GREGORIAN
BEGIN:VEVENT
DTSTART:20120714T180000Z
DTEND:20120714T210000Z
X-MICROSOFT-CDO-ALLDAYEVENT:FALSE
SUMMARY:Geocaching
DESCRIPTION:Learn about geocaching with the Wisconsin Geocaching Association (WGA). \n\n\n\nMeet at the Pike Lake Office.
X-ALT-DESC;FMTTYPE=text/html:<br />\n<span style="font-size:14px\;">Learn about geocaching with the Wisconsin Geocaching Association (WGA). </span><br />\n<br />\n<em>Meet at the Pike Lake Office.</em>
LOCATION:Meet at the Pike Lake Office
UID:e.898.1558
SEQUENCE:3
DTSTAMP:20260420T045429Z
URL:https://business.hartfordareachamber.org/events/details/geocaching-07-14-2012-1558
END:VEVENT

END:VCALENDAR
