BEGIN:VCALENDAR
VERSION:2.0
PRODID:-//ChamberMaster//Event Calendar 2.0//EN
METHOD:PUBLISH
X-PUBLISHED-TTL:P3D
REFRESH-INTERVAL:P3D
CALSCALE:GREGORIAN
BEGIN:VEVENT
DTSTART:20120825T180000Z
DTEND:20120825T210000Z
X-MICROSOFT-CDO-ALLDAYEVENT:FALSE
SUMMARY:Geocaching
DESCRIPTION:Geocaching\n\n\n\nLearn about geocaching with the\n\nWisconsin Geocaching Association (WGA) \n\n\n\nMeet at the Pike Lake Office.
X-ALT-DESC;FMTTYPE=text/html:<span style="font-size:18px\;"><strong>Geocaching</strong></span><br />\n<br />\n<span style="font-size:14px\;">Learn about geocaching with the<br />\nWisconsin Geocaching Association (WGA) </span><br />\n<br />\n<em>Meet at the Pike Lake Office.</em>
LOCATION:Meet at the Pike Lake Office
UID:e.898.1564
SEQUENCE:3
DTSTAMP:20260420T032513Z
URL:https://business.hartfordareachamber.org/events/details/geocaching-08-25-2012-1564
END:VEVENT

END:VCALENDAR
