BEGIN:VCALENDAR
VERSION:2.0
PRODID:-//ChamberMaster//Event Calendar 2.0//EN
METHOD:PUBLISH
X-PUBLISHED-TTL:P3D
REFRESH-INTERVAL:P3D
CALSCALE:GREGORIAN
BEGIN:VEVENT
DTSTART:20130207T220000Z
DTEND:20130208T000000Z
X-MICROSOFT-CDO-ALLDAYEVENT:FALSE
SUMMARY:Gmail Tools and Options
DESCRIPTION:30636\n\nGmail is filled with loads of tools and options that make it easy to use\, fast and accessible to everyone. Look beyond the surface of gmail and tap into the productivity it has to offer\, making your gmail experience even better (students should already have a gmail account).
X-ALT-DESC;FMTTYPE=text/html:30636<br />\nGmail is filled with loads of tools and options that make it easy to use\, fast and accessible to everyone. Look beyond the surface of gmail and tap into the productivity it has to offer\, making your gmail experience even better (students should already have a gmail account).
LOCATION:Hartford Union High School 805 Cedar St. Hartford\, WI 53027
UID:e.898.1740
SEQUENCE:3
DTSTAMP:20260422T093724Z
URL:https://business.hartfordareachamber.org/events/details/gmail-tools-and-options-02-07-2013-1740
END:VEVENT

END:VCALENDAR
