BEGIN:VCALENDAR
VERSION:2.0
PRODID:-//ChamberMaster//Event Calendar 2.0//EN
METHOD:PUBLISH
X-PUBLISHED-TTL:P3D
REFRESH-INTERVAL:P3D
CALSCALE:GREGORIAN
BEGIN:VEVENT
DTSTART:20140715T150000Z
DTEND:20140716T010000Z
X-MICROSOFT-CDO-ALLDAYEVENT:FALSE
SUMMARY:Goldbug Golf Classic
DESCRIPTION:24th Annual Goldbug Golf Classic\n\n\n\nProceeds benefit the Medical Center Foundation of Hartford Medical Transportation Program.\n\n\n\nHartford Golf Club\n\nTuesday\, July 15\n\n\n\nClick HERE for flyer
X-ALT-DESC;FMTTYPE=text/html:<span style="font-size: 18px\;">24th Annual Goldbug Golf Classic</span><br />\n<br />\nProceeds benefit the Medical Center Foundation of Hartford Medical Transportation Program.<br />\n<br />\nHartford Golf Club<br />\nTuesday\, July 15<br />\n<br />\nClick <a href="http://cloud.chambermaster.com/userfiles/UserFiles/chambers/898/File/flyer-GoldbugGolf.pdf">HERE</a> for flyer<br />\n<br />\n&nbsp\;
LOCATION:
UID:e.898.3082
SEQUENCE:3
DTSTAMP:20260420T100109Z
URL:https://business.hartfordareachamber.org/events/details/goldbug-golf-classic-07-15-2014-3082
END:VEVENT

END:VCALENDAR
