BEGIN:VCALENDAR
VERSION:2.0
PRODID:-//ChamberMaster//Event Calendar 2.0//EN
METHOD:PUBLISH
X-PUBLISHED-TTL:P3D
REFRESH-INTERVAL:P3D
CALSCALE:GREGORIAN
BEGIN:VEVENT
DTSTART:20130820T153000Z
DTEND:20130820T170000Z
X-MICROSOFT-CDO-ALLDAYEVENT:FALSE
SUMMARY:Golf Outing 2013
DESCRIPTION:Hartford Area Chamber \n\n	Golf Outing\n\n	\n\n	Hartford Golf Club\n\n	7072 Lee Road\, Hartford\n\n	\n\n	Tuesday\, August 20\, 2013\n\n	\n\n	Registration & Lunch -- 10:30 am\n\n	Shotgun Start -- 12 Noon\n\n	Social Hour & Appetizers -- 4:00 pm\n\n	Dinner\, Awards & Raffle -- 6:00 pm\n\n	Showcase your Business - as a golfer or sponsor!\n\n	Click here for more details & registration!
X-ALT-DESC;FMTTYPE=text/html:<p>\n	<span style="font-family: tahoma"><strong><span style="font-size: 18px">Hartford Area Chamber </span><br />\n	<span style="font-size: 28px">Golf Outing</span></strong><br />\n	<br />\n	<span style="font-size: 18px"><strong>Hartford Golf Club</strong></span><br />\n	7072 Lee Road\, Hartford<br />\n	<br />\n	<span style="font-size:14px\;"><strong>Tuesday\, August 20\, 2013</strong></span><br />\n	<br />\n	Registration &amp\; Lunch -- 10:30 am<br />\n	Shotgun Start -- 12 Noon<br />\n	Social Hour &amp\; Appetizers -- 4:00 pm<br />\n	Dinner\, Awards &amp\; Raffle -- 6:00 pm</span></p>\n<p>\n	<strong><span style="font-family:tahoma\;">Showcase your Business - as a golfer or sponsor!<br />\n	<a href="http://cloud.chambermaster.com/userfiles/UserFiles/chambers/898/File/application-2012golfouting.pdf">Click here for more details &amp\; registration!</a></span></strong></p>\n
LOCATION:Hartford Golf Club 7072 Lee Road\, Hartford
UID:e.898.1813
SEQUENCE:3
DTSTAMP:20260421T233026Z
URL:https://business.hartfordareachamber.org/events/details/golf-outing-2013-08-20-2013-1813
END:VEVENT

END:VCALENDAR
