BEGIN:VCALENDAR
VERSION:2.0
PRODID:-//ChamberMaster//Event Calendar 2.0//EN
METHOD:PUBLISH
X-PUBLISHED-TTL:P3D
REFRESH-INTERVAL:P3D
CALSCALE:GREGORIAN
BEGIN:VEVENT
DTSTART:20121219T170000Z
DTEND:20121222T000000Z
X-MICROSOFT-CDO-ALLDAYEVENT:FALSE
SUMMARY:Grand Re-Opening of Snap Fitness at New Location
DESCRIPTION:Snap Fitness has moved to a BIGGER\, NEW location in Hilldale Plaza (right across the street from our old club).  Our new club is 5800 square feet and includes a Studio (group classes will be starting in January).  Please join us for our Grand Re-Opening.  Special Membership Offers will be available.  Refreshments will be provided.   Look forward to seeing you there.
X-ALT-DESC;FMTTYPE=text/html:<p>\n	Snap Fitness has moved to a BIGGER\, NEW location in Hilldale Plaza (right across the street from our old club).&nbsp\; Our new club is 5800 square feet and includes a Studio (group classes will be starting in January).&nbsp\; Please join us for our Grand Re-Opening.&nbsp\; Special Membership Offers will be available.&nbsp\; Refreshments will be provided.&nbsp\;&nbsp\; Look forward to seeing you there.</p>\n
LOCATION:1532 East Sumner Street in Hilldale Plaza
UID:e.898.1709
SEQUENCE:3
DTSTAMP:20260422T134420Z
URL:https://business.hartfordareachamber.org/events/details/grand-re-opening-of-snap-fitness-at-new-location-12-19-2012-1709
END:VEVENT

END:VCALENDAR
