BEGIN:VCALENDAR
VERSION:2.0
PRODID:-//ChamberMaster//Event Calendar 2.0//EN
METHOD:PUBLISH
X-PUBLISHED-TTL:P3D
REFRESH-INTERVAL:P3D
CALSCALE:GREGORIAN
BEGIN:VEVENT
DTSTART:20190627T130000Z
DTEND:20190627T140000Z
X-MICROSOFT-CDO-ALLDAYEVENT:FALSE
SUMMARY:Grow your Business
DESCRIPTION:Grow Your Business! With Compulse Integrated Marketing\n\nBring all your marketing under one umbrella.\n\nSave time & money & reach new customers!
X-ALT-DESC;FMTTYPE=text/html:Grow Your Business! With Compulse Integrated Marketing<br />\nBring all your marketing under one umbrella.<br />\nSave time &amp\; money &amp\; reach new customers!<br />\n&nbsp\;
LOCATION:Cobblestone Hotel & Suites 101 Park Ave. Hartford\, WI
UID:e.898.5931
SEQUENCE:3
DTSTAMP:20260419T164910Z
URL:https://business.hartfordareachamber.org/events/details/grow-your-business-5931
END:VEVENT

END:VCALENDAR
