BEGIN:VCALENDAR
VERSION:2.0
PRODID:-//ChamberMaster//Event Calendar 2.0//EN
METHOD:PUBLISH
X-PUBLISHED-TTL:P3D
REFRESH-INTERVAL:P3D
CALSCALE:GREGORIAN
BEGIN:VEVENT
DTSTART:20161022T140000Z
DTEND:20161022T190000Z
X-MICROSOFT-CDO-ALLDAYEVENT:FALSE
SUMMARY:Guy's Rummage Sale
DESCRIPTION:Guy's Rummage Sale for your Man-Cave\, Shop\,etc.  - Guys and Gals are invited!  Items available are tools\, sporting items\, fishing gear\, hunting items\, camping gear\, car stuff\, wild life prints\, jackets\, woodworking\, ...good guy stuff!\n\n\n\nWhere:  St. Aidan's Episcopal Church\, 670 E. Monroe Avenue\, Hartford\, WI\n\nWhen:  October 22\, 2016 from 9:00 am - 2:00 pm
X-ALT-DESC;FMTTYPE=text/html:Guy&#39\;s Rummage Sale for your Man-Cave\, Shop\,etc. &nbsp\;- Guys and Gals are invited! &nbsp\;Items available are tools\, sporting items\, fishing gear\, hunting items\, camping gear\, car stuff\, wild life prints\, jackets\, woodworking\, ...good guy stuff!<br />\n<br />\nWhere: &nbsp\;St. Aidan&#39\;s Episcopal Church\, 670 E. Monroe Avenue\, Hartford\, WI<br />\nWhen: &nbsp\;October 22\, 2016 from 9:00 am - 2:00 pm
LOCATION:
UID:e.898.3775
SEQUENCE:3
DTSTAMP:20260421T190508Z
URL:https://business.hartfordareachamber.org/events/details/guy-s-rummage-sale-3775
END:VEVENT

END:VCALENDAR
