BEGIN:VCALENDAR
VERSION:2.0
PRODID:-//ChamberMaster//Event Calendar 2.0//EN
METHOD:PUBLISH
X-PUBLISHED-TTL:P3D
REFRESH-INTERVAL:P3D
CALSCALE:GREGORIAN
BEGIN:VEVENT
DTSTART:20141026T193000Z
DTEND:20141026T203000Z
X-MICROSOFT-CDO-ALLDAYEVENT:FALSE
SUMMARY:Hand Bell Concert - Hartford City Band
DESCRIPTION:Come listen to the beautiful sounds of the Hartford City Band's hand bell choir.
X-ALT-DESC;FMTTYPE=text/html:Come listen to the beautiful sounds of the Hartford City Band&#39\;s hand bell choir.
LOCATION:Schauer Arts & Activities Center 147 N. Rural Street\, Hartford
UID:e.898.3223
SEQUENCE:3
DTSTAMP:20260420T215551Z
URL:https://business.hartfordareachamber.org/events/details/hand-bell-concert-hartford-city-band-10-26-2014-3223
END:VEVENT

END:VCALENDAR
