BEGIN:VCALENDAR
VERSION:2.0
PRODID:-//ChamberMaster//Event Calendar 2.0//EN
METHOD:PUBLISH
X-PUBLISHED-TTL:P3D
REFRESH-INTERVAL:P3D
CALSCALE:GREGORIAN
BEGIN:VEVENT
DTSTART;VALUE=DATE:20130828
DTEND;VALUE=DATE:20130903
TRANSP:TRANSPARENT
X-MICROSOFT-CDO-ALLDAYEVENT:TRUE
SUMMARY:Harley Davidson 110th Anniversary
DESCRIPTION:Washington County Fair Park and Conference Center is offering camping sites in conjunction with the Harley Davidson 110th Anniversary Celebration.\n\nCamping is available for August 28 through September 2\, 2013. \n\nCamping Packages -  RV Sites-no electric $150\, electric $250.  Tent Sites-no electric $100\n\nAmenities-\n\nBuffet breakfast daily 6:30 - 9:30 a.m. for purchase\n\nBathrooms & Showers\n\nLive music Friday & Saturday from 9:00 p.m. to Midnight.\n\n\n\nMore information & reservations -\n\n262-677-5060\n\nwww.wcfairpark.com\n\n\n\nReserve your space today!
X-ALT-DESC;FMTTYPE=text/html:Washington County Fair Park and Conference Center is offering camping sites in conjunction with the Harley Davidson 110th Anniversary Celebration.<br />\nCamping is available for August 28 through September 2\, 2013.&nbsp\;<br />\nCamping Packages -&nbsp\; RV Sites-no electric $150\, electric $250.&nbsp\; Tent Sites-no electric $100<br />\nAmenities-<br />\nBuffet breakfast daily 6:30 - 9:30 a.m. for purchase<br />\nBathrooms &amp\; Showers<br />\nLive music Friday &amp\; Saturday from 9:00 p.m. to Midnight.<br />\n<br />\nMore information &amp\; reservations -<br />\n262-677-5060<br />\n<a href="http://www.wcfairpark.com">www.wcfairpark.com</a><br />\n<br />\nReserve your&nbsp\;space today!<br />\n
LOCATION:Washington County Fair Park & Convention Center
UID:e.898.2609
SEQUENCE:3
DTSTAMP:20260421T215429Z
URL:https://business.hartfordareachamber.org/events/details/harley-davidson-110th-anniversary-08-28-2013-2609
END:VEVENT

END:VCALENDAR
