BEGIN:VCALENDAR
VERSION:2.0
PRODID:-//ChamberMaster//Event Calendar 2.0//EN
METHOD:PUBLISH
X-PUBLISHED-TTL:P3D
REFRESH-INTERVAL:P3D
CALSCALE:GREGORIAN
BEGIN:VEVENT
DTSTART:20120816T010000Z
DTEND:20120816T020000Z
X-MICROSOFT-CDO-ALLDAYEVENT:FALSE
SUMMARY:Hartford City Band
DESCRIPTION:Hartford City Band\n\nWoodlawn Park - Large Band Shelter\n\n\n\nConcerts begin at 8 pm\n\n\n\nBring lawn chairs\, blankets and pillows!\n\nLimited benches and picnic tables are available on a first-come\, first-taken basis.\n\n\n\nEnjoy a night out with some great music!
X-ALT-DESC;FMTTYPE=text/html:<span style="font-size: 18px"><strong>Hartford City Band</strong></span><br />\n<span style="font-size: 14px">Woodlawn Park - Large Band Shelter</span><br />\n<br />\nConcerts begin at 8 pm<br />\n<br />\nBring lawn chairs\, blankets and pillows!<br />\nLimited benches and picnic tables are available on a first-come\, first-taken basis.<br />\n<br />\n<span style="font-size: 14px"><em><strong>Enjoy a night out with some great music!</strong></em></span><br />\n<br />\n
LOCATION:
UID:e.898.1127
SEQUENCE:3
DTSTAMP:20260420T033106Z
URL:https://business.hartfordareachamber.org/events/details/hartford-city-band-08-15-2012-1127
END:VEVENT

END:VCALENDAR
