BEGIN:VCALENDAR
VERSION:2.0
PRODID:-//ChamberMaster//Event Calendar 2.0//EN
METHOD:PUBLISH
X-PUBLISHED-TTL:P3D
REFRESH-INTERVAL:P3D
CALSCALE:GREGORIAN
BEGIN:VEVENT
DTSTART:20141006T233000Z
DTEND:20141007T013000Z
X-MICROSOFT-CDO-ALLDAYEVENT:FALSE
SUMMARY:Hartford Community U
DESCRIPTION:Hartford Community U\n\n\n\nThe Hartford Rotary Club has committed itself to targeting the growing issue of narcotic addiction and abuse in our community. The Hartford Community U program was designed as a way to engage our entire community to reach that goal.\n\n\n\nFree community-wide forum where topical experts will give presentations on the narcotic abuse and addiction issues in and around OUR community.\n\n\n\nThe Hartford Community U will be hosting presenters from a wide variety of OUR community's resources in and around the Hartford area. We will be hearing from law enforcement officers\, addiction counseling providers\, treatment providers\, Hartford families affected by this issue\, and from people who have overcome these abuse and addiction issues.\n\n\n\n\n\nWhy should you attend the Hartford Community U?\n\n\n\nNarcotic abuse and addiction has become an epidemic in our society. This problem is very real\, and this problem IS here in Hartford. The Hartford Rotary Club believes that an informed community is a safer community\, and we would like to personally invite you to join us at the Hartford Community U!
X-ALT-DESC;FMTTYPE=text/html:<strong><span style="font-size:18px\;">Hartford Community U</span></strong><br />\n<br />\nThe Hartford Rotary Club has committed itself to targeting the growing issue of narcotic addiction and abuse in our community. The <strong>Hartford Community U</strong> program was designed as a way to engage our entire community to reach that goal.<br />\n<br />\nFree community-wide forum where topical experts will give presentations on the narcotic abuse and addiction issues in and around OUR community.<br />\n<br />\nThe <strong>Hartford Community U</strong> will be hosting presenters from a wide variety of OUR community&#39\;s resources in and around the Hartford area. We will be hearing from law enforcement officers\, addiction counseling providers\, treatment providers\, Hartford families affected by this issue\, and from people who have overcome these abuse and addiction issues.<br />\n<br />\n<br />\nWhy should you attend the <strong>Hartford Community U</strong>?<br />\n<br />\nNarcotic abuse and addiction has become an epidemic in our society. This problem is very real\, and this problem IS here in Hartford. The Hartford Rotary Club believes that an informed community is a safer community\, and we would like to personally invite you to join us at the <strong>Hartford Community U</strong>!
LOCATION:Hartford Union High School 805 Cedar Street Hartford
UID:e.898.3237
SEQUENCE:3
DTSTAMP:20260420T213529Z
URL:https://business.hartfordareachamber.org/events/details/hartford-community-u-10-06-2014-3237
END:VEVENT

END:VCALENDAR
