BEGIN:VCALENDAR
VERSION:2.0
PRODID:-//ChamberMaster//Event Calendar 2.0//EN
METHOD:PUBLISH
X-PUBLISHED-TTL:P3D
REFRESH-INTERVAL:P3D
CALSCALE:GREGORIAN
BEGIN:VEVENT
DTSTART:20120608T163000Z
DTEND:20120609T000000Z
X-MICROSOFT-CDO-ALLDAYEVENT:FALSE
SUMMARY:Hartford Gridiron Golf Outing
DESCRIPTION:12th Annual Hartford Gridiron Club Scholarship\n\n	Golf Outing\n\n	\n\n	See Sidebar for Cost Details\n\n	Cost Includes: Hartford Football T-shirt\n\n	Special Gift\n\n	18 hold of Golf with a Cart\n\n	Buffet Style Dinner\n\n	Prizes & Hold Contests
X-ALT-DESC;FMTTYPE=text/html:<p>\n	12th Annual Hartford Gridiron Club Scholarship<br />\n	Golf Outing<br />\n	<br />\n	<em><strong>See Sidebar for&nbsp\;Cost Details</strong></em><br />\n	Cost Includes: Hartford Football T-shirt<br />\n	Special Gift<br />\n	18 hold of Golf with a Cart<br />\n	Buffet Style Dinner<br />\n	Prizes &amp\; Hold Contests<br />\n	<br />\n	&nbsp\;</p>\n
LOCATION:Hartford Golf Club
UID:e.898.1089
SEQUENCE:3
DTSTAMP:20260420T063055Z
URL:https://business.hartfordareachamber.org/events/details/hartford-gridiron-golf-outing-06-08-2012-1089
END:VEVENT

END:VCALENDAR
