BEGIN:VCALENDAR
VERSION:2.0
PRODID:-//ChamberMaster//Event Calendar 2.0//EN
METHOD:PUBLISH
X-PUBLISHED-TTL:P3D
REFRESH-INTERVAL:P3D
CALSCALE:GREGORIAN
BEGIN:VEVENT
DTSTART:20120721T140000Z
DTEND:20120721T200000Z
X-MICROSOFT-CDO-ALLDAYEVENT:FALSE
SUMMARY:Hartford Lioness Garden Walk
DESCRIPTION:Celebrate the beauty of gardens enjoy formal\, small area\, vegetables/flower gardens and some with water features. Walking through new gardens is a perfect way to gather new ideas\, relax and enjoy the natural beauty they have to offer.\n\n	 \n\n	The Hartford Lioness Club has committed to donate their proceeds to the Wisconsin Lions' Camp and other area projects/organizations supported by Hartford Lioness. The Lions' Camp has provided for children who are blind/visually impaired\, deaf/hard of hearing\, cognitively disabled or diabetic.
X-ALT-DESC;FMTTYPE=text/html:<div>\n	Celebrate the beauty of gardens&mdash\;enjoy formal\, small area\, vegetables/flower gardens and some with water features. Walking through new gardens is a perfect way to gather new ideas\, relax and enjoy the natural beauty they have to offer.</div>\n<div>\n	&nbsp\;</div>\n<div>\n	<font face="Arial\, Helvetica\, sans-serif\, 'MS Sans Serif'"><span style="FONT-SIZE: 12px">The Hartford Lioness Club has committed to donate their proceeds to the Wisconsin Lions&#39\; Camp and other area projects/organizations supported by Hartford Lioness. The Lions&#39\; Camp has provided for children who are blind/visually impaired\, deaf/hard of hearing\, cognitively disabled or diabetic. </span></font></div>\n
LOCATION:Gardens located in Hartford and South of the City
UID:e.898.1162
SEQUENCE:3
DTSTAMP:20260420T050746Z
URL:https://business.hartfordareachamber.org/events/details/hartford-lioness-garden-walk-07-21-2012-1162
END:VEVENT

END:VCALENDAR
