BEGIN:VCALENDAR
VERSION:2.0
PRODID:-//ChamberMaster//Event Calendar 2.0//EN
METHOD:PUBLISH
X-PUBLISHED-TTL:P3D
REFRESH-INTERVAL:P3D
CALSCALE:GREGORIAN
BEGIN:VEVENT
DTSTART:20130605T150000Z
DTEND:20130605T170000Z
X-MICROSOFT-CDO-ALLDAYEVENT:FALSE
SUMMARY:Health Care Planning
DESCRIPTION:Who will be your voice if...\n\na financial\, emotional\, legal or medical crisis hits?\n\n\n\nMeet the many faces and levels of health care at a monthly workshop -- a workshop dedicated to helping you prepare and plan for the future. We are encouraging grown adult children as well as their senior parents to attend this FREE workshop!\n\n\n\n\n\nChapter 2\n\n\n\nCounty Financial Options \n\n    Lynn Karpinsky\, Aging of Disability Resource Center\n\n\n\nInsurance Options\n\n    Andy Voss\, Voss Insurance Group\n\n\n\nPersonal Financial Options\n\n    Beth Kuehl\, Cherry Creek Mortgage Company\n\n\n\nWednesday\, June 5\n\n10 am - Noon\n\n\n\nheld at\n\nHartford Senior Center\n\n730 Highland Avenue\, Hartford\n\n\n\nFREE and Open to the Public\n\nPlease contact Patti at 262-673-2220\n\nto reserve your seat!
X-ALT-DESC;FMTTYPE=text/html:<span style="font-size: 16px\;"><strong>Who will be your voice if...</strong><br />\n<span style="font-size: 14px\;">a financial\, emotional\, legal or medical crisis hits?<br />\n<br />\n<span style="font-size: 12px\;">Meet the many faces and levels of health care at a monthly workshop -- a workshop dedicated to helping you prepare and plan for the future. We are encouraging grown adult children as well as their senior parents to attend this FREE workshop!<br />\n<br />\n<br />\n<span style="font-size: 16px\;"><strong>Chapter 2</strong></span><br />\n<br />\n<span style="font-size: 14px\;">County Financial Options&nbsp\;</span><br />\n&nbsp\;&nbsp\;&nbsp\;&nbsp\;Lynn Karpinsky\, Aging of Disability Resource Center<br />\n<br />\n<span style="font-size: 14px\;">Insurance Options</span></span><br />\n&nbsp\;&nbsp\;&nbsp\;<span style="font-size: 12px\;">&nbsp\;Andy Voss\, Voss Insurance Group</span><br />\n<br />\n<span style="font-size: 12px\;"><span style="font-size: 14px\;">Personal Financial Options</span><br />\n&nbsp\;&nbsp\;&nbsp\;&nbsp\;Beth Kuehl\, Cherry Creek Mortgage Company</span><br />\n<br />\n<span style="font-size: 12px\;">Wednesday\, June 5<br />\n10 am - Noon</span><br />\n<br />\n<span style="font-size: 12px\;">held at</span><br />\n<strong>Hartford Senior Center</strong><br />\n<span style="font-size: 12px\;">730 Highland Avenue\, Hartford</span><br />\n<br />\n<span style="font-size: 12px\;">FREE and Open to the Public</span><br />\n<span style="font-size: 12px\;">Please contact <strong>Patti at 262-673-2220</strong><br />\nto reserve your seat!</span></span></span>
LOCATION:Hartford Senior Center 730 Highland Avenue Hartford
UID:e.898.2497
SEQUENCE:3
DTSTAMP:20260422T025006Z
URL:https://business.hartfordareachamber.org/events/details/health-care-planning-06-05-2013-2497
END:VEVENT

END:VCALENDAR
