BEGIN:VCALENDAR
VERSION:2.0
PRODID:-//ChamberMaster//Event Calendar 2.0//EN
METHOD:PUBLISH
X-PUBLISHED-TTL:P3D
REFRESH-INTERVAL:P3D
CALSCALE:GREGORIAN
BEGIN:VEVENT
DTSTART:20130703T150000Z
DTEND:20130703T170000Z
X-MICROSOFT-CDO-ALLDAYEVENT:FALSE
SUMMARY:Health Care Planning
DESCRIPTION:Who will be your voice if...\n\na financial\, emotional\, legal or medical crisis hits?\n\n\n\nMeet the many faces and levels of health care at a monthly workshop -- a workshop dedicated to helping you prepare and plan for the future. We are encouraging grown adult children as well as their senior parents to attend this FREE workshop!\n\n\n\nChapter 3\n\nHow Can I stay in my Home?     \n\n\n\nFeatured Speakers:                                             \n\n    Robin Smith\, Aurora Adult Day Center (1022 Club)\n\n    Laura Eggert\, Medical Center Foundation of Hartford\n\n    Denise Black\, Bridges Home Care\n\n    Robert Pfeifer\, Smart Accessible Living\, LLC\n\n    Evie Fritche\, Hartford Senior Center\n\n    Dave Morbeck\, ComForcare Senior Services\n\n    Judy Phillips\, Gericare\n\n\n\nWednesday\, July 3\n\n10 am - Noon\n\n\n\nheld at\n\nHartford Senior Center\n\n730 Highland Avenue\, Hartford\n\n\n\nFREE and Open to the Public\n\nPlease contact Patti at (262-673-2220) to reserve your seat!
X-ALT-DESC;FMTTYPE=text/html:<span style="font-size: 16px\;"><strong>Who will be your voice if...</strong><br />\n<span style="font-size: 14px\;">a financial\, emotional\, legal or medical crisis hits?<br />\n<br />\n<span style="font-size: 12px\;">Meet the many faces and levels of health care at a monthly workshop -- a workshop dedicated to helping you prepare and plan for the future. We are encouraging grown adult children as well as their senior parents to attend this FREE workshop!<br />\n<br />\n<strong>Chapter&nbsp\;3</strong><br />\n<span style="font-size: 14px\;">How Can I stay in my Home?&nbsp\;&nbsp\;&nbsp\;&nbsp\;&nbsp\;<br />\n<br />\n<span style="font-size: 12px\;">Featured Speakers:&nbsp\;</span>&nbsp\;&nbsp\;&nbsp\;&nbsp\;&nbsp\;&nbsp\;&nbsp\;&nbsp\;&nbsp\;&nbsp\;&nbsp\;&nbsp\;&nbsp\;&nbsp\;&nbsp\;&nbsp\;&nbsp\;&nbsp\;&nbsp\;&nbsp\;&nbsp\;&nbsp\;&nbsp\;&nbsp\;&nbsp\;&nbsp\;&nbsp\;&nbsp\;&nbsp\;&nbsp\;&nbsp\;&nbsp\;&nbsp\;&nbsp\;&nbsp\;&nbsp\;&nbsp\;&nbsp\;&nbsp\;&nbsp\;&nbsp\;&nbsp\;&nbsp\;&nbsp\;<br />\n<span style="font-size: 12px\;">&nbsp\;&nbsp\;&nbsp\;&nbsp\;Robin Smith\, Aurora Adult Day Center (1022 Club)<br />\n&nbsp\;&nbsp\;&nbsp\;&nbsp\;Laura Eggert\, Medical Center Foundation of Hartford<br />\n&nbsp\;&nbsp\;&nbsp\;&nbsp\;Denise Black\, Bridges Home Care<br />\n&nbsp\;&nbsp\;&nbsp\;&nbsp\;Robert Pfeifer\, Smart Accessible Living\, LLC<br />\n&nbsp\;&nbsp\;&nbsp\;&nbsp\;Evie Fritche\, Hartford Senior Center<br />\n&nbsp\;&nbsp\;&nbsp\;&nbsp\;Dave Morbeck\, ComForcare Senior Services<br />\n&nbsp\;&nbsp\;&nbsp\;&nbsp\;Judy Phillips\, Gericare</span></span></span><br />\n<br />\n<span style="font-size: 12px\;">Wednesday\, July 3<br />\n10 am - Noon</span><br />\n<br />\n<span style="font-size: 12px\;">held at</span><br />\n<strong>Hartford Senior Center</strong><br />\n<span style="font-size: 12px\;">730 Highland Avenue\, Hartford</span><br />\n<br />\n<span style="font-size: 12px\;">FREE and Open to the Public</span><br />\n<span style="font-size: 12px\;">Please contact Patti at (262-673-2220) to reserve your seat!</span></span></span>
LOCATION:Hartford Senior Center 730 Highland Avenue Hartford
UID:e.898.2512
SEQUENCE:3
DTSTAMP:20260422T012125Z
URL:https://business.hartfordareachamber.org/events/details/health-care-planning-07-03-2013-2512
END:VEVENT

END:VCALENDAR
