BEGIN:VCALENDAR
VERSION:2.0
PRODID:-//ChamberMaster//Event Calendar 2.0//EN
METHOD:PUBLISH
X-PUBLISHED-TTL:P3D
REFRESH-INTERVAL:P3D
CALSCALE:GREGORIAN
BEGIN:VEVENT
DTSTART:20130807T150000Z
DTEND:20130807T170000Z
X-MICROSOFT-CDO-ALLDAYEVENT:FALSE
SUMMARY:Health Care Planning
DESCRIPTION:Who will be your voice if...\n\na financial\, emotional\, legal or medical crisis hits?\n\n\n\nMeet the many faces and levels of health care at a monthly workshop -- a workshop dedicated to helping you prepare and plan for the future. We are encouraging grown adult children as well as their senior parents to attend this FREE workshop!\n\n\n\nChapter 4\n\nWhen Home is No Longer the Answer     \n\n\n\nFeatured Speakers:                                             \n\n    Patti Nelson-Gill\, Hartford Healthcare Center\n\n    Amanda Choe\, Emerald Ridge\n\n    Monica Rakowski\, Wellington Place\n\n    Angie Reynolds\, Wellington Place\n\n    Karl Meyer\, Caring Transitions\n\n    \n\nWednesday\, August 7\n\n10 am - Noon\n\n\n\nheld at\n\nHartford Senior Center\n\n730 Highland Avenue\, Hartford\n\n\n\nFREE and Open to the Public\n\nPlease contact Patti at (262-673-2220) to reserve your seat!
X-ALT-DESC;FMTTYPE=text/html:<span style="font-size: 16px\;"><strong>Who will be your voice if...</strong><br />\n<span style="font-size: 14px\;">a financial\, emotional\, legal or medical crisis hits?<br />\n<br />\n<span style="font-size: 12px\;">Meet the many faces and levels of health care at a monthly workshop -- a workshop dedicated to helping you prepare and plan for the future. We are encouraging grown adult children as well as their senior parents to attend this FREE workshop!<br />\n<br />\n<strong>Chapter&nbsp\;4</strong><br />\n<span style="font-size: 14px\;">When Home is No Longer the Answer&nbsp\;&nbsp\;&nbsp\;&nbsp\;&nbsp\;<br />\n<br />\n<span style="font-size: 12px\;">Featured Speakers:&nbsp\;</span>&nbsp\;&nbsp\;&nbsp\;&nbsp\;&nbsp\;&nbsp\;&nbsp\;&nbsp\;&nbsp\;&nbsp\;&nbsp\;&nbsp\;&nbsp\;&nbsp\;&nbsp\;&nbsp\;&nbsp\;&nbsp\;&nbsp\;&nbsp\;&nbsp\;&nbsp\;&nbsp\;&nbsp\;&nbsp\;&nbsp\;&nbsp\;&nbsp\;&nbsp\;&nbsp\;&nbsp\;&nbsp\;&nbsp\;&nbsp\;&nbsp\;&nbsp\;&nbsp\;&nbsp\;&nbsp\;&nbsp\;&nbsp\;&nbsp\;&nbsp\;&nbsp\;<br />\n<span style="font-size: 12px\;">&nbsp\;&nbsp\;&nbsp\;&nbsp\;Patti Nelson-Gill\, Hartford Healthcare Center<br />\n&nbsp\;&nbsp\;&nbsp\;&nbsp\;Amanda Choe\, Emerald Ridge<br />\n&nbsp\;&nbsp\;&nbsp\;&nbsp\;Monica Rakowski\, Wellington Place<br />\n&nbsp\;&nbsp\;&nbsp\;&nbsp\;Angie Reynolds\, Wellington Place<br />\n&nbsp\;&nbsp\;&nbsp\;&nbsp\;Karl Meyer\, Caring Transitions<br />\n&nbsp\;&nbsp\;&nbsp\;&nbsp\;</span></span></span><br />\n<span style="font-size: 12px\;">Wednesday\,&nbsp\;August 7<br />\n10 am - Noon</span><br />\n<br />\n<span style="font-size: 12px\;">held at</span><br />\n<strong>Hartford Senior Center</strong><br />\n<span style="font-size: 12px\;">730 Highland Avenue\, Hartford</span><br />\n<br />\n<span style="font-size: 12px\;">FREE and Open to the Public</span><br />\n<span style="font-size: 12px\;">Please contact Patti at (262-673-2220) to reserve your seat!</span></span></span>
LOCATION:Hartford Senior Center 730 Highland Avenue Hartford
UID:e.898.2513
SEQUENCE:3
DTSTAMP:20260421T233853Z
URL:https://business.hartfordareachamber.org/events/details/health-care-planning-08-07-2013-2513
END:VEVENT

END:VCALENDAR
