BEGIN:VCALENDAR
VERSION:2.0
PRODID:-//ChamberMaster//Event Calendar 2.0//EN
METHOD:PUBLISH
X-PUBLISHED-TTL:P3D
REFRESH-INTERVAL:P3D
CALSCALE:GREGORIAN
BEGIN:VEVENT
DTSTART:20130904T150000Z
DTEND:20130904T170000Z
X-MICROSOFT-CDO-ALLDAYEVENT:FALSE
SUMMARY:Health Care Planning
DESCRIPTION:Who will be your voice if...\n\na financial\, emotional\, legal or medical crisis hits?\n\n\n\nMeet the many faces and levels of health care at a monthly workshop -- a workshop dedicated to helping you prepare and plan for the future. We are encouraging grown adult children as well as their senior parents to attend this FREE workshop!\n\n\n\nChapter 5\n\n\n\nCan I count on you to be my voice\n\nEnd of Life Choices \n\n    Deb Winterhack\, Seasons Hospice\n\n\n\nPassing the Tourch -- Publishing your Wishes\n\n    Patti Nelson-Gill\, Hartford Health Care\n\n    Deb Winterhack\, Seasons Hospice\n\n\n\nWednesday\, September 4\n\n10 am - Noon\n\n\n\nheld at\n\nHartford Senior Center\n\n730 Highland Avenue\, Hartford\n\n\n\nFREE and Open to the Public\n\nPlease contact Patti at (262-673-2220) to reserve your seat!
X-ALT-DESC;FMTTYPE=text/html:<span style="font-size: 16px\;"><strong>Who will be your voice if...</strong><br />\n<span style="font-size: 14px\;">a financial\, emotional\, legal or medical crisis hits?<br />\n<br />\n<span style="font-size: 12px\;">Meet the many faces and levels of health care at a monthly workshop -- a workshop dedicated to helping you prepare and plan for the future. We are encouraging grown adult children as well as their senior parents to attend this FREE workshop!<br />\n<br />\n<strong>Chapter 5</strong><br />\n<br />\n<span style="font-size: 14px\;">Can I&nbsp\;count on you to be my&nbsp\;voice<br />\nEnd of Life Choices&nbsp\;</span><br />\n&nbsp\;&nbsp\;&nbsp\;&nbsp\;Deb Winterhack\, Seasons Hospice<br />\n<br />\n<span style="font-size: 14px\;">Passing the Tourch -- Publishing your Wishes</span><br />\n&nbsp\;&nbsp\;&nbsp\;&nbsp\;Patti Nelson-Gill\, Hartford Health Care<br />\n&nbsp\;&nbsp\;&nbsp\;&nbsp\;Deb Winterhack\, Seasons Hospice</span><br />\n<br />\n<span style="font-size: 12px\;">Wednesday\,&nbsp\;September 4<br />\n10 am - Noon</span><br />\n<br />\n<span style="font-size: 12px\;">held at</span><br />\n<strong>Hartford Senior Center</strong><br />\n<span style="font-size: 12px\;">730 Highland Avenue\, Hartford</span><br />\n<br />\n<span style="font-size: 12px\;">FREE and Open to the Public</span><br />\n<span style="font-size: 12px\;">Please contact Patti at (262-673-2220) to reserve your seat!</span></span></span>
LOCATION:Hartford Senior Center 730 Highland Avenue Hartford
UID:e.898.2514
SEQUENCE:3
DTSTAMP:20260421T215905Z
URL:https://business.hartfordareachamber.org/events/details/health-care-planning-09-04-2013-2514
END:VEVENT

END:VCALENDAR
