BEGIN:VCALENDAR
VERSION:2.0
PRODID:-//ChamberMaster//Event Calendar 2.0//EN
METHOD:PUBLISH
X-PUBLISHED-TTL:P3D
REFRESH-INTERVAL:P3D
CALSCALE:GREGORIAN
BEGIN:VEVENT
DTSTART:20160924T150000Z
DTEND:20160924T160000Z
X-MICROSOFT-CDO-ALLDAYEVENT:FALSE
SUMMARY:Hell On Paws K-9: America's Unsung Heroes of All Wars
DESCRIPTION:How have dogs served in the military? War Dogs Milwaukee will present the history of the use of dogs in war as well as the breeds of that have served our country. Meet human and canine veterans. Learn more about War Dogs Milwaukee http://www.wardogsmilwaukee.com/home. "Hell On Paws K-9: America's Unsung Heroes of All Wars" is presented in conjunction with the special traveling exhibit "Fur\, Feathers\, and Fidelity\," on exhibit at the Old Courthouse Museum from September 7 through October 7. "Fur\, Feathers\, and Fidelity" exhibit provided courtesy of the Wisconsin Veterans Museum and funded in part by the Wisconsin Humanities Council with funds from the National Endowment for the Humanities. The Wisconsin Veterans Museum is an educational activity of the Wisconsin Department of Veterans Affairs. Program is free with Museum admission and all ages are welcome.
X-ALT-DESC;FMTTYPE=text/html:How have dogs served in the military? War Dogs Milwaukee will present the history of the use of dogs in war as well as the breeds of that have served our country. Meet human and canine veterans. Learn more about War Dogs Milwaukee http://www.wardogsmilwaukee.com/home. &ldquo\;Hell On Paws K-9: America&rsquo\;s Unsung Heroes of All Wars&rdquo\; is presented in conjunction with the special traveling exhibit &ldquo\;Fur\, Feathers\, and Fidelity\,&rdquo\; on exhibit at the Old Courthouse Museum from September 7 through October 7. &ldquo\;Fur\, Feathers\, and Fidelity&rdquo\; exhibit provided courtesy of the Wisconsin Veterans Museum and funded in part by the Wisconsin Humanities Council with funds from the National Endowment for the Humanities. The Wisconsin Veterans Museum is an educational activity of the Wisconsin Department of Veterans Affairs. Program is free with Museum admission and all ages are welcome.
LOCATION:The Old Courthouse Museum 320 S 5th Ave West Bend 53095
UID:e.898.3747
SEQUENCE:3
DTSTAMP:20260421T123753Z
URL:https://business.hartfordareachamber.org/events/details/hell-on-paws-k-9-america-s-unsung-heroes-of-all-wars-3747
END:VEVENT

END:VCALENDAR
