BEGIN:VCALENDAR
VERSION:2.0
PRODID:-//ChamberMaster//Event Calendar 2.0//EN
METHOD:PUBLISH
X-PUBLISHED-TTL:P3D
REFRESH-INTERVAL:P3D
CALSCALE:GREGORIAN
BEGIN:VEVENT
DTSTART:20190618T190000Z
DTEND:20190618T205500Z
X-MICROSOFT-CDO-ALLDAYEVENT:FALSE
SUMMARY:Help Protect Your Estate with Estate Planning - CRN - 10224
DESCRIPTION:Help Protect Your Estate with Estate Planning       CRN - 10224       \n\nTuesday June 18\, 2019\n\n102-628  CRN - 10224 - Outlines the documents required in a sound estate plan\, creating your own will\, different kinds of wills\, the importance of power of attorney documents\, when to include Marital Property Agreements in a Wisconsin estate plan\, and provisions that should be included in a will and in power of attorney documents (comparison of attorney-drafted versus statutory power of attorney form).
X-ALT-DESC;FMTTYPE=text/html:Help Protect Your Estate with Estate Planning&nbsp\; &nbsp\; &nbsp\; &nbsp\;CRN - 10224&nbsp\; &nbsp\; &nbsp\; &nbsp\;<br />\nTuesday June 18\, 2019<br />\n102-628&nbsp\; CRN - 10224 - Outlines the documents required in a sound estate plan\, creating your own will\, different kinds of wills\, the importance of power of attorney documents\, when to include Marital Property Agreements in a Wisconsin estate plan\, and provisions that should be included in a will and in power of attorney documents (comparison of attorney-drafted versus statutory power of attorney form).<br />\n<br />\n&nbsp\;
LOCATION:Hartford Union High School District 805 Cedar Street\, Hartford\, WI 53027 HRTFD Room 147
UID:e.898.5911
SEQUENCE:3
DTSTAMP:20260419T152037Z
URL:https://business.hartfordareachamber.org/events/details/help-protect-your-estate-with-estate-planning-crn-10224-5911
END:VEVENT

END:VCALENDAR
