BEGIN:VCALENDAR
VERSION:2.0
PRODID:-//ChamberMaster//Event Calendar 2.0//EN
METHOD:PUBLISH
X-PUBLISHED-TTL:P3D
REFRESH-INTERVAL:P3D
CALSCALE:GREGORIAN
BEGIN:VEVENT
DTSTART:20141123T150000Z
DTEND:20141124T000000Z
X-MICROSOFT-CDO-ALLDAYEVENT:FALSE
SUMMARY:Hike the Ice Age Trail
DESCRIPTION:Pike Lake - Ice Age Trail Hike\n\n\n\nMeet at the Powder Hill Road parking lot on the east side of Powder Hill Road about one mile south of Hwy 60\, just north of the campground.\n\n\n\nThis is about 1/2 mile east of the park's main entrance off of Hwy 60 and about three miles west of Hwy 41.\n\n\n\nThe hike is a 4.6 mile loop\, but options are available for shorter or longer hikes so NO shuttle is necessary.\n\n\n\nHike is rated "moderate" due to hills and distance.\n\n\n\nA Wisconsin state park sticker is required.\n\n	Free and open to the public.\n	Ice Age terrain is rugged and not stroller or wheelchair accessible.\n	No pets please.\n	Water bottle and appropriate footwear highly recommended.
X-ALT-DESC;FMTTYPE=text/html:<strong><span style="font-size:18px\;">Pike Lake - Ice Age Trail Hike</span></strong><br />\n<br />\nMeet at the Powder Hill Road parking lot on the east side of Powder Hill Road about one mile south of Hwy 60\, just north of the campground.<br />\n<br />\nThis is about 1/2 mile east of the park&#39\;s main entrance off of Hwy 60 and about three miles west of Hwy 41.<br />\n<br />\nThe hike is a 4.6 mile loop\, but options are available for shorter or longer hikes so NO shuttle is necessary.<br />\n<br />\nHike is rated &quot\;moderate&quot\; due to hills and distance.<br />\n<br />\nA Wisconsin state park sticker is required.\n<ul>\n	<li>Free and open to the public.</li>\n	<li>Ice Age terrain is rugged and not stroller or wheelchair accessible.</li>\n	<li>No pets please.</li>\n	<li>Water bottle and appropriate footwear highly recommended.</li>\n</ul>\n<br />\n&nbsp\;
LOCATION:Pike Lake State Park Powder Hill Road parking lot One mile south of Hwy 60\, just north of the campground
UID:e.898.3225
SEQUENCE:3
DTSTAMP:20260420T201235Z
URL:https://business.hartfordareachamber.org/events/details/hike-the-ice-age-trail-11-23-2014-3225
END:VEVENT

END:VCALENDAR
