BEGIN:VCALENDAR
VERSION:2.0
PRODID:-//ChamberMaster//Event Calendar 2.0//EN
METHOD:PUBLISH
X-PUBLISHED-TTL:P3D
REFRESH-INTERVAL:P3D
CALSCALE:GREGORIAN
BEGIN:VEVENT
DTSTART:20121208T180000Z
DTEND:20121208T210000Z
X-MICROSOFT-CDO-ALLDAYEVENT:FALSE
SUMMARY:Historic Home Tour
DESCRIPTION:Hartford Historic Society\n\nHome Tour\n\n\n\nTickets on sale soon at the Schauer Arts & Activities Center\n\nand can be picked up Doll Pontiac on Main street\n\n\n\nVisit four historical homes on the city's north side and\n\ntwo businesses: Doll Pontiac and Scoop de Ville.\n\n\n\nThese wonderful homes are within walking distance\n\nto each other and each has an unique history\n\nas do the businesses.\n\n\n\nThis is the ninth year of the historical home tour\,\n\nand we invite you to join us.
X-ALT-DESC;FMTTYPE=text/html:<strong><span style="font-size: 16px">Hartford Historic Society<br />\n<span style="font-size: 22px">Home Tour</span></span></strong><br />\n<br />\nTickets&nbsp\;on sale soon&nbsp\;at the Schauer Arts &amp\; Activities Center<br />\nand can be&nbsp\;picked up Doll Pontiac on Main street<br />\n<br />\nVisit&nbsp\;four historical homes on the city&#39\;s north side and<br />\ntwo businesses:&nbsp\;Doll Pontiac and Scoop de Ville.<br />\n<br />\nThese wonderful homes are within walking distance<br />\nto each other and each has an unique history<br />\nas do the businesses.<br />\n<br />\nThis is the ninth year of the historical home tour\,<br />\nand we invite you to join us.<br />\n
LOCATION:
UID:e.898.1623
SEQUENCE:3
DTSTAMP:20260422T133523Z
URL:https://business.hartfordareachamber.org/events/details/historic-home-tour-12-08-2012-1623
END:VEVENT

END:VCALENDAR
