BEGIN:VCALENDAR
VERSION:2.0
PRODID:-//ChamberMaster//Event Calendar 2.0//EN
METHOD:PUBLISH
X-PUBLISHED-TTL:P3D
REFRESH-INTERVAL:P3D
CALSCALE:GREGORIAN
BEGIN:VEVENT
DTSTART:20130522T000000Z
DTEND:20130522T013000Z
X-MICROSOFT-CDO-ALLDAYEVENT:FALSE
SUMMARY:History of the Doughboy & the Veterans Memoral Plaza
DESCRIPTION:The Washington County Veterans Memorial Plaza in West Bend is home to a bronze "Doughboy" statue. Find out who the Doughboys were and the history of the statue itself.
X-ALT-DESC;FMTTYPE=text/html:<span style="font-size: 12px\;"><strong>The Washington County Veterans Memorial Plaza in West Bend is home to a bronze &ldquo\;Doughboy&rdquo\; statue. Find out who the Doughboys were and the history of the statue itself.</strong></span>
LOCATION:Old Courthouse Museum 320 S. 5th Ave\, West Bend\, WI 53095
UID:e.898.1786
SEQUENCE:3
DTSTAMP:20260419T140258Z
URL:https://business.hartfordareachamber.org/events/details/history-of-the-doughboy-the-veterans-memoral-plaza-05-21-2013-1786
END:VEVENT

END:VCALENDAR
