BEGIN:VCALENDAR
VERSION:2.0
PRODID:-//ChamberMaster//Event Calendar 2.0//EN
METHOD:PUBLISH
X-PUBLISHED-TTL:P3D
REFRESH-INTERVAL:P3D
CALSCALE:GREGORIAN
BEGIN:VEVENT
DTSTART:20140116T000000Z
DTEND:20140116T004500Z
X-MICROSOFT-CDO-ALLDAYEVENT:FALSE
SUMMARY:History Room
DESCRIPTION:Open House\n\n\n\nHartford History Room - second floor\n\n\n\nJack Russell Memorial Library\n\n\n\nYou are invited to see where Hartford's history is stored\, filed\, displayed\, and preserved.\n\n\n\nLearn how to research your own genealogy!!\n\n\n\nThe Mystery History program in the library Community Room follows at 7:00 pm
X-ALT-DESC;FMTTYPE=text/html:<strong><span style="font-size: 14px\;">Open House</span></strong><br />\n<br />\nHartford History Room - second floor<br />\n<br />\nJack Russell Memorial Library<br />\n<br />\nYou are invited to see where Hartford&#39\;s history is stored\, filed\, displayed\, and preserved.<br />\n<br />\nLearn how to research your own genealogy!!<br />\n<br />\nThe<strong> M<strong>ystery History </strong>p</strong>rogram in the library Community Room follows at 7:00 pm<br />\n<br />\n
LOCATION:Jack Russell Memorial Library 100 Park Avenue Hartford\, WI 53027
UID:e.898.2908
SEQUENCE:3
DTSTAMP:20260421T154153Z
URL:https://business.hartfordareachamber.org/events/details/history-room-01-15-2014-2908
END:VEVENT

END:VCALENDAR
