BEGIN:VCALENDAR
VERSION:2.0
PRODID:-//ChamberMaster//Event Calendar 2.0//EN
METHOD:PUBLISH
X-PUBLISHED-TTL:P3D
REFRESH-INTERVAL:P3D
CALSCALE:GREGORIAN
BEGIN:VEVENT
DTSTART:20120915T150000Z
DTEND:20120915T220000Z
X-MICROSOFT-CDO-ALLDAYEVENT:FALSE
SUMMARY:Holy Hill Arts & Crafts Fair 2012
DESCRIPTION:230 Artists & Craftsmen exhibiting their work in the\n\nnatural setting of the Holy Hill Grounds. \n\n\n\nPublic Entry is $4\n\nChildren under 12 free\n\n\n\nFree Parking for the public.\n\nFood & Entertainment available.\n\n\n\nThis is our 38th annual fair and one of the best in the state. \n\nOther fairs are using our name and being held on the same date.\n\nDon't be confused.\n\nOur fair is the original Holy Hill Fair and is held at Holy Hill.
X-ALT-DESC;FMTTYPE=text/html:<p>230 Artists &amp\; Craftsmen exhibiting their work in the<br />\nnatural setting of the Holy Hill Grounds.&nbsp\;<br />\n<br />\nPublic Entry is $4<br />\nChildren under 12 free<br />\n<br />\nFree Parking for the public.<br />\nFood &amp\; Entertainment available.<br />\n<br />\nThis is our 38th annual fair and one of the best in the state.&nbsp\;<br />\nOther fairs are using our name and being held on the same date.<br />\nDon&#39\;t be confused.<br />\nOur fair is the original Holy Hill Fair and is held at Holy Hill.</p>\n
LOCATION:1525 Carmel Road Hubertus\, WI 53033
UID:e.898.1114
SEQUENCE:3
DTSTAMP:20260420T015518Z
URL:https://business.hartfordareachamber.org/events/details/holy-hill-arts-crafts-fair-2012-1114
END:VEVENT

END:VCALENDAR
