BEGIN:VCALENDAR
VERSION:2.0
PRODID:-//ChamberMaster//Event Calendar 2.0//EN
METHOD:PUBLISH
X-PUBLISHED-TTL:P3D
REFRESH-INTERVAL:P3D
CALSCALE:GREGORIAN
BEGIN:VEVENT
DTSTART:20120604T233000Z
DTEND:20120605T013000Z
X-MICROSOFT-CDO-ALLDAYEVENT:FALSE
SUMMARY:Home Brew Contest
DESCRIPTION:Is your Home Brew the best? Enter your home brew in Washington County Historical Society's second Home Brew Contest. Three barrels of winning recipe will be made by Riverside Brewery and sampled at Brew-HaHa 2012 in September.\n\n\n\nRegister by 4:30 pm on April 13 and pay only $20 for the first recipe! Late registration is $30 for the first recipe. Each additional recipe is $10 each\, with a maximum of three entries per person. Sorry\, no lagers or bocks. To download the complete rules and a registration form\, visit our website www.historyisfun.com and go to the Events page.
X-ALT-DESC;FMTTYPE=text/html:Is your Home Brew the best? Enter your home brew in Washington County Historical Society&rsquo\;s second Home Brew Contest. Three barrels of winning recipe will be made by Riverside Brewery and sampled at Brew-HaHa 2012 in September.<br />\n<br />\nRegister by 4:30 pm on April 13 and pay only $20 for the first recipe! Late registration is $30 for the first recipe. Each additional recipe is $10 each\, with a maximum of three entries per person. Sorry\, no lagers or bocks. To download the complete rules and a registration form\, visit our website www.historyisfun.com and go to the Events page.<br />\n
LOCATION:Riverside Brewery 255 S Main St West Bend\, WI 53209
UID:e.898.831
SEQUENCE:3
DTSTAMP:20260420T063147Z
URL:https://business.hartfordareachamber.org/events/details/home-brew-contest-06-04-2012-831
END:VEVENT

END:VCALENDAR
