BEGIN:VCALENDAR
VERSION:2.0
PRODID:-//ChamberMaster//Event Calendar 2.0//EN
METHOD:PUBLISH
X-PUBLISHED-TTL:P3D
REFRESH-INTERVAL:P3D
CALSCALE:GREGORIAN
BEGIN:VEVENT
DTSTART:20190707T163000Z
DTEND:20190708T013000Z
X-MICROSOFT-CDO-ALLDAYEVENT:FALSE
SUMMARY:Home Grown Music Festival
DESCRIPTION:Join us for a day of music\, food\, and fun. A $10 donation helps support the History Center of Washington County! This year's line-up includes: The Freques\, Wise Jennings\, No Name String Band\, Red Hawks\, Chris Haise Band\, Brett Newski\, and The Mascot Theory. Visit fancypantspromotion.com for more details.
X-ALT-DESC;FMTTYPE=text/html:Join us for a day of music\, food\, and fun. A $10 donation helps support the History Center of Washington County! This year&rsquo\;s line-up includes: The Freques\, Wise Jennings\, No Name String Band\, Red Hawks\, Chris Haise Band\, Brett Newski\, and The Mascot Theory. Visit fancypantspromotion.com for more details.
LOCATION:Regner Park 800 N. Main St. West Bend\, WI 53090
UID:e.898.5928
SEQUENCE:3
DTSTAMP:20260419T152849Z
URL:https://business.hartfordareachamber.org/events/details/home-grown-music-festival-5928
END:VEVENT

END:VCALENDAR
