BEGIN:VCALENDAR
VERSION:2.0
PRODID:-//ChamberMaster//Event Calendar 2.0//EN
METHOD:PUBLISH
X-PUBLISHED-TTL:P3D
REFRESH-INTERVAL:P3D
CALSCALE:GREGORIAN
BEGIN:VEVENT
DTSTART:20141003T183000Z
DTEND:20141003T190000Z
X-MICROSOFT-CDO-ALLDAYEVENT:FALSE
SUMMARY:Homecoming Parade
DESCRIPTION:Celebrate Hartford Union High School's Homecoming\n\n\n\nShow your school spirit by wearing the school colors of orange and black and cheer on the Orioles as they get ready to host Wisconsin Lutheran Vikings at the 7:00 pm game at Gib Mahr Field.\n\n\n\nMain Street\, Downtown Hartford
X-ALT-DESC;FMTTYPE=text/html:<strong><span style="font-size:14px\;">Celebrate Hartford Union High School&#39\;s Homecoming</span></strong><br />\n<br />\n<span style="font-size:14px\;">Show your school spirit by wearing the school colors of orange and black and cheer on the Orioles as they get ready to host Wisconsin Lutheran Vikings at the 7:00 pm game at Gib Mahr Field.</span><br />\n<br />\nMain Street\, Downtown Hartford
LOCATION:
UID:e.898.3263
SEQUENCE:3
DTSTAMP:20260420T213441Z
URL:https://business.hartfordareachamber.org/events/details/homecoming-parade-10-03-2014-3263
END:VEVENT

END:VCALENDAR
