BEGIN:VCALENDAR
VERSION:2.0
PRODID:-//ChamberMaster//Event Calendar 2.0//EN
METHOD:PUBLISH
X-PUBLISHED-TTL:P3D
REFRESH-INTERVAL:P3D
CALSCALE:GREGORIAN
BEGIN:VEVENT
DTSTART:20120725T220000Z
DTEND:20120726T000000Z
X-MICROSOFT-CDO-ALLDAYEVENT:FALSE
SUMMARY:How do you wear a corset? Evening at the Museum
DESCRIPTION:The Museums are open late!  Try on a corset a Civil War frock coat and more!  Free for members and children under 5!
X-ALT-DESC;FMTTYPE=text/html:The Museums are open late!&nbsp\; Try on a corset a Civil War frock coat and more!&nbsp\; Free for members and children under 5!
LOCATION:Old Courthouse Museum 320 S 5th Ave West Bend\, WI 53095
UID:e.898.1176
SEQUENCE:3
DTSTAMP:20260420T050910Z
URL:https://business.hartfordareachamber.org/events/details/how-do-you-wear-a-corset-evening-at-the-museum-07-25-2012-1176
END:VEVENT

END:VCALENDAR
