BEGIN:VCALENDAR
VERSION:2.0
PRODID:-//ChamberMaster//Event Calendar 2.0//EN
METHOD:PUBLISH
X-PUBLISHED-TTL:P3D
REFRESH-INTERVAL:P3D
CALSCALE:GREGORIAN
BEGIN:VEVENT
DTSTART:20131108T000000Z
DTEND:20131108T030000Z
X-MICROSOFT-CDO-ALLDAYEVENT:FALSE
SUMMARY:How to Conduct Research for Your Small Business
DESCRIPTION:CRN #20673\n\n	Starting your own business or interested in growing your existing small business? Get a basic understanding of how to conduct research prior to creating a business plan or expansion. We'll develop a sound research framework to help you determine a potential market\; evaluate your industry\, size up the competition\, and more. Learn how to gather and analyze data prior to planning.
X-ALT-DESC;FMTTYPE=text/html:<p class="MsoNormal" style="margin: 0in 0in 0pt\;">\n	<font size="3"><font color="#000000"><font face="Calibri">CRN #20673<o:p></o:p></font></font></font></p>\n<p class="MsoNormal" style="margin: 0in 0in 10pt\;">\n	<font size="3"><font color="#000000"><font face="Calibri">Starting your own business or interested in growing your existing small business? Get a basic understanding of how to conduct research prior to creating a business plan or expansion. We&rsquo\;ll develop a sound research framework to help you determine a potential market\; evaluate your industry\, size up the competition\, and more. Learn how to gather and analyze data prior to planning. <o:p></o:p></font></font></font></p>\n
LOCATION:Fond du Lac County Economics Development Corporation
UID:e.898.1850
SEQUENCE:3
DTSTAMP:20260421T185422Z
URL:https://business.hartfordareachamber.org/events/details/how-to-conduct-research-for-your-small-business-11-07-2013-1850
END:VEVENT

END:VCALENDAR
