BEGIN:VCALENDAR
VERSION:2.0
PRODID:-//ChamberMaster//Event Calendar 2.0//EN
METHOD:PUBLISH
X-PUBLISHED-TTL:P3D
REFRESH-INTERVAL:P3D
CALSCALE:GREGORIAN
BEGIN:VEVENT
DTSTART:20120524T130000Z
DTEND:20120524T220000Z
X-MICROSOFT-CDO-ALLDAYEVENT:FALSE
SUMMARY:Huge Rummage Sale
DESCRIPTION:Huge Rummage Sale\n\n	Redeemer Lutheran Church\n\n	\n\n	May 24\, 25\, 26\n\n	8am - 5pm  \n\n	\n\n	Bag Sale Saturday\, May 26!
X-ALT-DESC;FMTTYPE=text/html:<p>\n	<span style="font-size:16px\;"><strong>Huge Rummage Sale<br />\n	<em>Redeemer Lutheran Church</em></strong><br />\n	<br />\n	May 24\, 25\, 26<br />\n	8am - 5pm</span><span _fck_bookmark="1" style="display: none\;">&nbsp\;</span><span _fck_bookmark="1" style="display: none\;">&nbsp\;</span><br />\n	<br />\n	<em><strong>Bag Sale Saturday\, May 26!</strong></em><span _fck_bookmark="1" style="display: none\;">&nbsp\;</span><span _fck_bookmark="1" style="display: none\;">&nbsp\;</span></p>\n
LOCATION:Redeemer Lutheran Church 255 W Lincoln Ave Hartford\, WI 53027
UID:e.898.1190
SEQUENCE:3
DTSTAMP:20260420T080249Z
URL:https://business.hartfordareachamber.org/events/details/huge-rummage-sale-05-24-2012-1190
END:VEVENT

END:VCALENDAR
