BEGIN:VCALENDAR
VERSION:2.0
PRODID:-//ChamberMaster//Event Calendar 2.0//EN
METHOD:PUBLISH
X-PUBLISHED-TTL:P3D
REFRESH-INTERVAL:P3D
CALSCALE:GREGORIAN
BEGIN:VEVENT
DTSTART:20121006T150000Z
DTEND:20121006T200000Z
X-MICROSOFT-CDO-ALLDAYEVENT:FALSE
SUMMARY:HUHS Drive One 4 UR School Fundraiser
DESCRIPTION:Hartford Union High School & Ewald's Hartford Ford\n\n	are once again teaming up to host a test-drive fundraising event called\n\n	"Drive One 4 UR School" \n\n	We invite parents and community members to stop out to HUHS on\n\n	Saturday\, October 6 from 10 am - 3 pm.\n\n	\n\n	There will be shiny new Ford models available for the public to test drive.\n\n	\n\n	For every valid test drive at the event\, Ford Motor Company will donate $20\n\n	to HUHS\, up to $6\,000!\n\n	(Must be at least 18 years old with a valid drivers license. One drive per household.)\n\n	HUHS will use the funds raised to increase school spirit for our students and community. Questions? Email LeaAnn Odekirk\, HUHS Public Relations & Marketing Coordinator\, LeaAnn.Odekirk@huhs.org
X-ALT-DESC;FMTTYPE=text/html:<p align="justify" dir="ltr">\n	<span lang="EN">Hartford Union High School &amp\;&nbsp\;Ewald&#39\;s Hartford Ford<br />\n	are once again teaming up&nbsp\;to host a test-drive fundraising event called<br />\n	<strong>&quot\;Drive One 4 UR School&quot\; </strong></span></p>\n<p align="justify" dir="ltr">\n	<span lang="EN">We invite parents and community members to stop out to HUHS on<br />\n	Saturday\, October 6 from 10 am - 3 pm.<br />\n	<br />\n	There will be shiny new Ford models available for the public to test drive.<br />\n	<br />\n	For every valid test drive at the event\, Ford Motor Company will donate $20<br />\n	to HUHS\, up to $6\,000!<br />\n	(<i>Must be at least 18 years old with a valid drivers license. One drive per household.)</i></span></p>\n<p>\n	<span lang="EN">HUHS will use the funds raised to increase school spirit for our students and community. Questions? Email LeaAnn Odekirk\, HUHS Public Relations &amp\; Marketing Coordinator\, LeaAnn.Odekirk@huhs.org</span></p>\n
LOCATION:Hartford Union High School Student Parking Lot
UID:e.898.1613
SEQUENCE:3
DTSTAMP:20260420T003127Z
URL:https://business.hartfordareachamber.org/events/details/huhs-drive-one-4-ur-school-fundraiser-10-06-2012-1613
END:VEVENT

END:VCALENDAR
