BEGIN:VCALENDAR
VERSION:2.0
PRODID:-//ChamberMaster//Event Calendar 2.0//EN
METHOD:PUBLISH
X-PUBLISHED-TTL:P3D
REFRESH-INTERVAL:P3D
CALSCALE:GREGORIAN
BEGIN:VEVENT
DTSTART:20121110T013000Z
DTEND:20121110T013000Z
X-MICROSOFT-CDO-ALLDAYEVENT:FALSE
SUMMARY:HUHS Fall Musical
DESCRIPTION:2012 Fall Musical: "West Side Story"\n\n	November 9\, 10\, 11\, 16\, 17 \n\n	The Hartford Union High School District proudly presents "West Side Story" as the 2012 Fall Musical! The musical will be held on November 9\, 10\, 11\, 16\, and 17 at the Schauer Arts & Activities Center.\n\n	\n		November 9\, 10\, 16 & 17 at 7:30 pm\n	\n		November 11 at 2 pm\n\n\n	Tickets On Sale \n\n	$16.50 Adult / $12.50 Student\n\n	Tickets must be purchased from the Schauer Arts & Activities Center.  (262) 670-0560\n\n	Monday-Friday 11:30-5:30 / Saturday 11:30 - 2:00\n\n	www.schauercenter.org\n\n	For more information\, please contact Stephanie Klockow\, Director  Stephanie.klockow@huhs.org  or visit our website: www.huhs.org/musical
X-ALT-DESC;FMTTYPE=text/html:<p class="MsoNormal" style="margin: 6pt 0in\; mso-line-height-alt: 12.0pt\; mso-outline-level: 1">\n	<b style="mso-bidi-font-weight: normal"><span style="font-family: 'arial'\, 'sans-serif'\; color: #f7941d\; font-size: 15.5pt\; mso-fareast-font-family: 'times new roman'\; mso-font-kerning: 18.0pt">2012 Fall Musical: &quot\;West Side Story&quot\;<o:p></o:p></span></b></p>\n<p class="MsoNormal" style="line-height: 12pt\; margin: 6pt 0in\; mso-outline-level: 3">\n	<b><span style="font-family: 'arial'\, 'sans-serif'\; color: #5c5151\; font-size: 12pt\; mso-fareast-font-family: 'times new roman'">November 9\, 10\, 11\, 16\, 17 </span></b><span style="font-family: 'arial'\, 'sans-serif'\; color: #5c5151\; font-size: 12pt\; mso-fareast-font-family: 'times new roman'"><o:p></o:p></span></p>\n<p class="MsoNormal" style="line-height: 140%\; margin: 12pt 0in">\n	<span style="line-height: 140%\; font-family: 'arial'\, 'sans-serif'\; font-size: 10pt\; mso-fareast-font-family: 'times new roman'"><font color="#000000">The Hartford Union High School District proudly presents &quot\;West Side Story&quot\; as the 2012 Fall Musical! The musical will be held on November 9\, 10\, 11\, 16\, and 17 at the Schauer Arts &amp\; Activities Center.</font></span></p>\n<ul type="disc">\n	<li class="MsoNormal" style="line-height: 140%\; margin: 0in 0in 0pt\; mso-margin-top-alt: auto\; mso-margin-bottom-alt: auto\; mso-list: l0 level1 lfo1\; tab-stops: list .5in">\n		<font color="#000000"><b><span style="line-height: 140%\; font-family: 'arial'\, 'sans-serif'\; font-size: 10pt\; mso-fareast-font-family: 'times new roman'">November 9\, 10\, 16 &amp\; 17 at 7:30 pm</span></b><span style="line-height: 140%\; font-family: 'arial'\, 'sans-serif'\; font-size: 10pt\; mso-fareast-font-family: 'times new roman'"><o:p></o:p></span></font></li>\n	<li class="MsoNormal" style="line-height: 140%\; margin: 0in 0in 0pt\; mso-margin-top-alt: auto\; mso-margin-bottom-alt: auto\; mso-list: l0 level1 lfo1\; tab-stops: list .5in">\n		<font color="#000000"><b><span style="line-height: 140%\; font-family: 'arial'\, 'sans-serif'\; font-size: 10pt\; mso-fareast-font-family: 'times new roman'">November 11 at 2 pm</span></b><span style="line-height: 140%\; font-family: 'arial'\, 'sans-serif'\; font-size: 10pt\; mso-fareast-font-family: 'times new roman'"><o:p></o:p></span></font></li>\n</ul>\n<p class="MsoNormal" style="line-height: 12pt\; margin: 6pt 0in\; mso-outline-level: 3">\n	<b><span style="font-family: 'arial'\, 'sans-serif'\; color: #f7941d\; font-size: 12pt\; mso-fareast-font-family: 'times new roman'">Tickets On Sale </span></b><span style="font-family: 'arial'\, 'sans-serif'\; color: #f7941d\; font-size: 12pt\; mso-fareast-font-family: 'times new roman'"><o:p></o:p></span></p>\n<p class="MsoNormal" style="line-height: 140%\; margin: 12pt 0in">\n	<font color="#000000"><b><span style="line-height: 140%\; font-family: 'arial'\, 'sans-serif'\; font-size: 10pt\; mso-fareast-font-family: 'times new roman'">$16.50 Adult / $12.50 Student</span></b><span style="line-height: 140%\; font-family: 'arial'\, 'sans-serif'\; font-size: 10pt\; mso-fareast-font-family: 'times new roman'"><o:p></o:p></span></font></p>\n<p class="MsoNormal" style="line-height: 140%\; margin: 12pt 0in">\n	<span style="line-height: 140%\; font-family: 'arial'\, 'sans-serif'\; font-size: 10pt\; mso-fareast-font-family: 'times new roman'"><font color="#000000">Tickets must be purchased from the Schauer Arts &amp\; Activities Center.<span style="mso-spacerun: yes">&nbsp\; </span>(262) 670-0560<br />\n	Monday-Friday 11:30-5:30 / Saturday 11:30 - 2:00</font></span><br />\n	<a href="http://www.schauercenter.org/"><span style="line-height: 140%\; font-family: 'arial'\, 'sans-serif'\; color: windowtext\; font-size: 10pt\; mso-fareast-font-family: 'times new roman'">www.schauercenter.org</span></a></p>\n<p class="MsoNormal" style="line-height: 140%\; margin: 12pt 0in">\n	<span style="line-height: 140%\; font-family: 'arial'\, 'sans-serif'\; font-size: 10pt\; mso-fareast-font-family: 'times new roman'"><font color="#000000">For more information\, please contact Stephanie Klockow\, Director <span style="mso-spacerun: yes">&nbsp\;</span></font></span><a href="mailto:Stephanie.klockow@huhs.org"><span style="line-height: 140%\; font-family: 'arial'\, 'sans-serif'\; color: windowtext\; font-size: 10pt\; mso-fareast-font-family: 'times new roman'">Stephanie.klockow@huhs.org</span></a>&nbsp\; or visit our website: <a href="http://www.huhs.org/musical">www.huhs.org/musical</a><span style="line-height: 140%\; font-family: 'arial'\, 'sans-serif'\; font-size: 10pt\; mso-fareast-font-family: 'times new roman'"><o:p></o:p></span></p>\n
LOCATION:
UID:e.898.1665
SEQUENCE:3
DTSTAMP:20260422T143801Z
URL:https://business.hartfordareachamber.org/events/details/huhs-fall-musical-11-09-2012-1665
END:VEVENT

END:VCALENDAR
