BEGIN:VCALENDAR
VERSION:2.0
PRODID:-//ChamberMaster//Event Calendar 2.0//EN
METHOD:PUBLISH
X-PUBLISHED-TTL:P3D
REFRESH-INTERVAL:P3D
CALSCALE:GREGORIAN
BEGIN:VEVENT
DTSTART:20120603T190000Z
DTEND:20120603T210000Z
X-MICROSOFT-CDO-ALLDAYEVENT:FALSE
SUMMARY:HUHS Graduation
DESCRIPTION:
X-ALT-DESC;FMTTYPE=text/html:
LOCATION:Hartford Union High School\, 805 Cedar Street
UID:e.898.1149
SEQUENCE:3
DTSTAMP:20260424T100853Z
URL:https://business.hartfordareachamber.org/events/details/huhs-graduation-06-03-2012-1149
END:VEVENT

END:VCALENDAR
