BEGIN:VCALENDAR
VERSION:2.0
PRODID:-//ChamberMaster//Event Calendar 2.0//EN
METHOD:PUBLISH
X-PUBLISHED-TTL:P3D
REFRESH-INTERVAL:P3D
CALSCALE:GREGORIAN
BEGIN:VEVENT
DTSTART:20121013T000000Z
DTEND:20121013T020000Z
X-MICROSOFT-CDO-ALLDAYEVENT:FALSE
SUMMARY:HUHS Homecoming
DESCRIPTION:Students\, parents\, community members and alumni\n\nare encouraged to celebrate\n\n\n\nHartford Union High School\n\nHomecoming 2012 \n\n\n\nat the pep rally\, parade and football game\n\nFriday\, October 12.\n\n\n\nThe HUHS Homecoming dance\n\nwill take place on Saturday\, October 13.
X-ALT-DESC;FMTTYPE=text/html:Students\, parents\, community members and alumni<br />\nare encouraged to celebrate<br />\n<br />\n<span style="font-size: 14px"><strong>Hartford Union High School<br />\nHomecoming 2012 </strong></span><br />\n<br />\nat the pep rally\, parade and football game<br />\nFriday\, October 12.<br />\n<br />\nThe HUHS Homecoming dance<br />\nwill take place on Saturday\, October 13.
LOCATION:HUHS
UID:e.898.1614
SEQUENCE:3
DTSTAMP:20260420T002901Z
URL:https://business.hartfordareachamber.org/events/details/huhs-homecoming-10-12-2012-1614
END:VEVENT

END:VCALENDAR
