BEGIN:VCALENDAR
VERSION:2.0
PRODID:-//ChamberMaster//Event Calendar 2.0//EN
METHOD:PUBLISH
X-PUBLISHED-TTL:P3D
REFRESH-INTERVAL:P3D
CALSCALE:GREGORIAN
BEGIN:VEVENT
DTSTART:20121012T183000Z
DTEND:20121012T190000Z
X-MICROSOFT-CDO-ALLDAYEVENT:FALSE
SUMMARY:HUHS Parade - Homecomng 2012
DESCRIPTION:HUHS \n\nHomecoming Parade\n\n\n\nDowntown Hartford!\n\n\n\nShow your spirit in\n\nBLACK & Orange!\n\n\n\nGo Orioles!
X-ALT-DESC;FMTTYPE=text/html:<span style="font-size: 18px"><strong><span style="font-size: 22px">HUHS </span><br />\n<span style="color: #ff8c00">Homecoming Parade</span></strong></span><br />\n<br />\n<strong>Downtown Hartford!</strong><br />\n<br />\nShow your spirit in<br />\n<strong>BLACK </strong>&amp\; <span style="color: #ff8c00"><strong>Orange</strong></span>!<br />\n<br />\n<span style="color: #ff8c00"><span style="font-size: 22px"><strong>Go Orioles</strong>!&nbsp\;</span></span><br />\n
LOCATION:Downtown Hartford
UID:e.898.1628
SEQUENCE:3
DTSTAMP:20260422T162405Z
URL:https://business.hartfordareachamber.org/events/details/huhs-parade-homecomng-2012-10-12-2012-1628
END:VEVENT

END:VCALENDAR
