BEGIN:VCALENDAR
VERSION:2.0
PRODID:-//ChamberMaster//Event Calendar 2.0//EN
METHOD:PUBLISH
X-PUBLISHED-TTL:P3D
REFRESH-INTERVAL:P3D
CALSCALE:GREGORIAN
BEGIN:VEVENT
DTSTART:20131031T230000Z
DTEND:20131101T020000Z
X-MICROSOFT-CDO-ALLDAYEVENT:FALSE
SUMMARY:Human Resources foir Small Business
DESCRIPTION:HR for Small Business\n\n	\n\n	CRN #30738\n\n	As your small business grows it will reach a point where it will need to add a few emplyees to handle operations efficiently. Where will you find qualified candidates? How do you interview and hire employees? How do you negotiate compensation and benefits? What is a performance evaluation? What are good reasons for termination?
X-ALT-DESC;FMTTYPE=text/html:<p class="MsoNormal" style="margin: 0in 0in 0pt\;">\n	<font size="3"><font color="#000000"><font face="Calibri"><strong>HR for Small Business</strong><br />\n	<br />\n	CRN #30738<o:p></o:p></font></font></font></p>\n<p class="MsoNormal" style="margin: 0in 0in 0pt\;">\n	<font size="3"><font color="#000000"><font face="Calibri">As your small business grows it will reach a point where it will need to add a few emplyees to handle operations efficiently. Where will you find qualified candidates? How do you interview and hire employees? How do you negotiate compensation and benefits? What is a performance evaluation? What are good reasons for termination?<o:p></o:p></font></font></font></p>\n<p class="MsoNormal" style="margin: 0in 0in 10pt\;">\n	<o:p><font color="#000000" face="Calibri" size="3">&nbsp\;</font></o:p></p>\n
LOCATION:Moraine Park Technical College / fond du Lac Campus
UID:e.898.2215
SEQUENCE:3
DTSTAMP:20260421T201426Z
URL:https://business.hartfordareachamber.org/events/details/human-resources-foir-small-business-10-31-2013-2215
END:VEVENT

END:VCALENDAR
