BEGIN:VCALENDAR
VERSION:2.0
PRODID:-//ChamberMaster//Event Calendar 2.0//EN
METHOD:PUBLISH
X-PUBLISHED-TTL:P3D
REFRESH-INTERVAL:P3D
CALSCALE:GREGORIAN
BEGIN:VEVENT
DTSTART:20130614T120000Z
DTEND:20130615T210000Z
X-MICROSOFT-CDO-ALLDAYEVENT:FALSE
SUMMARY:Human Society's 3rd Annual Rummage Sale for the Animals
DESCRIPTION:Washington County Human Society's\n\n3rd Annual Rummage Sale For the Animals\n\n\n\nFriday & Saturday\n\nJune 14 - 15\n\n7 am - 4 pm\n\n\n\nWashington County Humane Society\n\n3650 Hwy 60\, Slinger \n\n\n\nFood & Refreshments donated by volunteers & staff will be available for sale\n\nFood donations (brats\, individual chip bags\, soda & water) needed!\n\n\n\nRummage Sale items can be dropped off during the shelter's open hours through June 12.\n\n\n\nFor more  information call (262) 677-4388 or\n\nvisit www.washingtoncountyhumane.org
X-ALT-DESC;FMTTYPE=text/html:<span style="font-size: 16px\;"><strong>Washington County Human Society&#39\;s<br />\n3rd Annual Rummage Sale For the Animals</strong><br />\n<br />\n<span style="font-size: 12px\;">Friday &amp\; Saturday<br />\nJune 14 - 15<br />\n7 am - 4 pm<br />\n<br />\n<span style="font-size: 14px\;"><strong>Washington County Humane Society</strong><br />\n<span style="font-size: 12px\;">3650 Hwy 60\, Slinger&nbsp\;<br />\n<br />\nFood &amp\; Refreshments donated by volunteers &amp\; staff&nbsp\;will be available for sale<br />\n<em><strong>Food donations (brats\, individual chip bags\, soda &amp\; water) needed!</strong></em><br />\n<br />\nRummage Sale items can be dropped off during the shelter&#39\;s open hours through June 12.<br />\n<br />\nFor more &nbsp\;information call (262) 677-4388 or<br />\nvisit <a href="http://www.washingtoncountyhumane.org">www.washingtoncountyhumane.org</a></span></span></span></span><br />\n
LOCATION:Washington County Humane Society 3650 Hwy 60 Slinger
UID:e.898.2518
SEQUENCE:3
DTSTAMP:20260419T121617Z
URL:https://business.hartfordareachamber.org/events/details/human-society-s-3rd-annual-rummage-sale-for-the-animals-06-14-2013-2518
END:VEVENT

END:VCALENDAR
