BEGIN:VCALENDAR
VERSION:2.0
PRODID:-//ChamberMaster//Event Calendar 2.0//EN
METHOD:PUBLISH
X-PUBLISHED-TTL:P3D
REFRESH-INTERVAL:P3D
CALSCALE:GREGORIAN
BEGIN:VEVENT
DTSTART:20130223T160000Z
DTEND:20130223T200000Z
X-MICROSOFT-CDO-ALLDAYEVENT:FALSE
SUMMARY:Iced on Main
DESCRIPTION:Iced on Main\n\n	Saturday\, February 23 - Hartford\n\n	10 am - 2 pm\n\n	Chili Cook-off from 11-1
X-ALT-DESC;FMTTYPE=text/html:<p>\n	<span style="color: rgb(0\, 0\, 128)\;"><strong><span style="font-size: 18px\;">Iced on Main</span></strong></span></p>\n<p>\n	<span style="font-size: 12px\;">Saturday\, February 23 - Hartford</span></p>\n<p>\n	<span style="font-size: 12px\;">10 am - 2 pm</span><br />\n	<strong><em>Chili Cook-off from 11-1<br />\n	<br />\n	<br />\n	&nbsp\;</em></strong></p>\n
LOCATION:
UID:e.898.1773
SEQUENCE:3
DTSTAMP:20260422T094151Z
URL:https://business.hartfordareachamber.org/events/details/iced-on-main-02-23-2013-1773
END:VEVENT

END:VCALENDAR
