BEGIN:VCALENDAR
VERSION:2.0
PRODID:-//ChamberMaster//Event Calendar 2.0//EN
METHOD:PUBLISH
X-PUBLISHED-TTL:P3D
REFRESH-INTERVAL:P3D
CALSCALE:GREGORIAN
BEGIN:VEVENT
DTSTART:20130306T010000Z
DTEND:20130306T030000Z
X-MICROSOFT-CDO-ALLDAYEVENT:FALSE
SUMMARY:Identity Theft: Learn-Prevent-Protect
DESCRIPTION:The Hartford Public Library and Friends of the Library  present\n\n	Identity Theft:  Learn-Prevent-Protect\n\n	\n\n	Eric Skrum\, Communications Director for the Wisconsin Bankers Association and Detective Richard Thickens from the Hartford Police Department will present information regarding the various forms of identity theft.  Come learn about the different types of identity theft happening nationwide as well as right here in Hartford and how to protect yourself and your family.
X-ALT-DESC;FMTTYPE=text/html:<p style="margin-bottom: 0in\;">\n	<font size="4"><b>The Hartford Public Library and Friends of the Library&nbsp\; present<br />\n	Identity Theft:&nbsp\; Learn-Prevent-Protect<br />\n	<br />\n	<span style="font-size: 11px\;">Eric Skrum\, Communications Director for the Wisconsin Bankers Association and Detective Richard Thickens from the Hartford Police Department will present information regarding the various forms of identity theft.&nbsp\; Come learn about the different types of identity theft happening nationwide as well as right here in Hartford and how to protect yourself and your family.</span></b></font></p>\n
LOCATION:Jack Russell Memorial Library 100 Park Ave. Hartford\, WI
UID:e.898.1772
SEQUENCE:3
DTSTAMP:20260419T164328Z
URL:https://business.hartfordareachamber.org/events/details/identity-theft-learn-prevent-protect-03-05-2013-1772
END:VEVENT

END:VCALENDAR
