BEGIN:VCALENDAR
VERSION:2.0
PRODID:-//ChamberMaster//Event Calendar 2.0//EN
METHOD:PUBLISH
X-PUBLISHED-TTL:P3D
REFRESH-INTERVAL:P3D
CALSCALE:GREGORIAN
BEGIN:VEVENT
DTSTART:20130919T000000Z
DTEND:20130919T020000Z
X-MICROSOFT-CDO-ALLDAYEVENT:FALSE
SUMMARY:Identity Theft: Learn-Prevent-Protect
DESCRIPTION:The Hartford Public Library and Friends of the Library  present\n\nEric Skrum and Det. Richard Thickins\n\nIdentity Theft:  Learn-Prevent-Protect\n\n\n\nEric Skrum\, Communications Director for the Wisconsin Bankers Association and Detective Richard Thickens of the Hartford Police Department will present information regarding the various forms of identity theft.  Come learn about the different types of identity theft happening nationwide as well as right here in Hartford and how to protect yourself and your family.\n\n\n\n\n\n\n\nst1\\:*{behavior:url(#ieooui) }
X-ALT-DESC;FMTTYPE=text/html:<b style="mso-bidi-font-weight: normal\;"><span style="font-family: &quot\;Times New Roman&quot\;\; font-size: 14pt\; mso-fareast-font-family: &quot\;Times New Roman&quot\;\; mso-ansi-language: EN-US\; mso-fareast-language: EN-US\; mso-bidi-language: AR-SA\;">The Hartford Public Library and Friends of the Library&nbsp\; present<br />\nEric Skrum and Det. Richard Thickins<br />\nIdentity Theft:&nbsp\; Learn-Prevent-Protect<br />\n<br />\nEric Skrum\, Communications Director for the Wisconsin Bankers Association and Detective Richard Thickens of the Hartford Police Department will present information regarding the various forms of identity theft.&nbsp\; Come learn about the different types of identity theft happening nationwide as well as right here in </span></b><b style="mso-bidi-font-weight: normal\;"><span style="font-family: &quot\;Times New Roman&quot\;\; font-size: 14pt\; mso-fareast-font-family: &quot\;Times New Roman&quot\;\; mso-ansi-language: EN-US\; mso-fareast-language: EN-US\; mso-bidi-language: AR-SA\;">Hartford</span></b><b style="mso-bidi-font-weight: normal\;"><span style="font-family: &quot\;Times New Roman&quot\;\; font-size: 14pt\; mso-fareast-font-family: &quot\;Times New Roman&quot\;\; mso-ansi-language: EN-US\; mso-fareast-language: EN-US\; mso-bidi-language: AR-SA\;"> and how to protect yourself and your family.</span></b><br />\n<br style="mso-special-character: line-break\;" />\n<br style="mso-special-character: line-break\;" />\n<object classid="clsid:38481807-CA0E-42D2-BF39-B33AF135CC4D" id="ieooui"></object>\n<style type="text/css">\nst1\\:*{behavior:url(#ieooui) }</style>\n
LOCATION:Community Room Jack Russell Memorial Library 100 Park Ave.\, Hartford\, WI
UID:e.898.2613
SEQUENCE:3
DTSTAMP:20260421T215304Z
URL:https://business.hartfordareachamber.org/events/details/identity-theft-learn-prevent-protect-09-18-2013-2613
END:VEVENT

END:VCALENDAR
