BEGIN:VCALENDAR
VERSION:2.0
PRODID:-//ChamberMaster//Event Calendar 2.0//EN
METHOD:PUBLISH
X-PUBLISHED-TTL:P3D
REFRESH-INTERVAL:P3D
CALSCALE:GREGORIAN
BEGIN:VEVENT
DTSTART:20130207T010000Z
DTEND:20130207T030000Z
X-MICROSOFT-CDO-ALLDAYEVENT:FALSE
SUMMARY:If Quilts Could Talk
DESCRIPTION:Becky Kranz will be coming to the library with quilts selected from her collection of more than 100 vintage works. Her oldest quilt is home-spun and hand-dyed using parts of plants. Her newest quilt dates from 1976. Find out about these quilts' creators and what was going on in America when each was assembled.\n\n\n\nIf you have a special quilt\, bring it along and share your story\n\nst1\\:*{behavior:url(#ieooui) }
X-ALT-DESC;FMTTYPE=text/html:<b style="mso-bidi-font-weight: normal\;"><span style="font-family: &quot\;times new roman&quot\;\; font-size: 14pt\; mso-fareast-font-family: &quot\;times new roman&quot\;\; mso-ansi-language: en-us\; mso-fareast-language: en-us\; mso-bidi-language: ar-sa\;">Becky Kranz will be coming to the library with quilts selected from her collection of more than 100 vintage works. Her oldest quilt is home-spun and hand-dyed using parts of plants. Her newest quilt dates from 1976. Find out about these quilts&rsquo\; creators and what was going on in </span></b><b style="mso-bidi-font-weight: normal\;"><span style="font-family: &quot\;times new roman&quot\;\; font-size: 14pt\; mso-fareast-font-family: &quot\;times new roman&quot\;\; mso-ansi-language: en-us\; mso-fareast-language: en-us\; mso-bidi-language: ar-sa\;">America</span></b><b style="mso-bidi-font-weight: normal\;"><span style="font-family: &quot\;times new roman&quot\;\; font-size: 14pt\; mso-fareast-font-family: &quot\;times new roman&quot\;\; mso-ansi-language: en-us\; mso-fareast-language: en-us\; mso-bidi-language: ar-sa\;"> when each was assembled.<br />\n<br />\nIf you have a special quilt\, bring it along and share your story</span></b><object classid="clsid:38481807-CA0E-42D2-BF39-B33AF135CC4D" id="ieooui"></object>\n<style type="text/css">\nst1\\:*{behavior:url(#ieooui) }</style>\n
LOCATION:Jack Russell Memorial Library 100 Park Ave. Hartford\, WI 53027
UID:e.898.1750
SEQUENCE:3
DTSTAMP:20260419T180905Z
URL:https://business.hartfordareachamber.org/events/details/if-quilts-could-talk-02-06-2013-1750
END:VEVENT

END:VCALENDAR
