BEGIN:VCALENDAR
VERSION:2.0
PRODID:-//ChamberMaster//Event Calendar 2.0//EN
METHOD:PUBLISH
X-PUBLISHED-TTL:P3D
REFRESH-INTERVAL:P3D
CALSCALE:GREGORIAN
BEGIN:VEVENT
DTSTART:20161013T000000Z
DTEND:20161013T033000Z
X-MICROSOFT-CDO-ALLDAYEVENT:FALSE
SUMMARY:Imprisoned Spirits: Paranormal
DESCRIPTION:Are the Old Washington County Courthouse and Old Jailhouse in West Bend haunted? Visit areas in both Museums where bizarre and unsettling phenomena have been experienced. 90-minute guided walking tours leave promptly at 7:00pm and at 8:30pm. Meet in front of Old Courthouse Museum 15 minutes before tour time. 320 S. 5th Avenue\, West Bend\, WI 53095 $8.00/WCHS member\, $12.00/non-member. Register and pay at LINK Not recommended for children under 12 due to adult themes. Contact Jessica education@historyisfun.com or (262) 335-4678.
X-ALT-DESC;FMTTYPE=text/html:Are the Old Washington County Courthouse and Old Jailhouse in West Bend haunted? Visit areas in both Museums where bizarre and unsettling phenomena have been experienced. 90-minute guided walking tours leave promptly at 7:00pm and at 8:30pm. Meet in front of Old Courthouse Museum 15 minutes before tour time. 320 S. 5th Avenue\, West Bend\, WI 53095 $8.00/WCHS member\, $12.00/non-member. Register and pay at LINK Not recommended for children under 12 due to adult themes. Contact Jessica education@historyisfun.com or (262) 335-4678.
LOCATION:the Old Courthouse Museum 320 S 5th Ave West Bend WI 53095
UID:e.898.3756
SEQUENCE:3
DTSTAMP:20260421T190514Z
URL:https://business.hartfordareachamber.org/events/details/imprisoned-spirits-paranormal-3756
END:VEVENT

END:VCALENDAR
